BEGIN:VCALENDAR
VERSION:2.0
PRODID:-//ChamberMaster//Event Calendar 2.0//EN
METHOD:PUBLISH
X-PUBLISHED-TTL:P3D
REFRESH-INTERVAL:P3D
CALSCALE:GREGORIAN
BEGIN:VEVENT
DTSTART;VALUE=DATE:20160818
DTEND;VALUE=DATE:20160819
TRANSP:TRANSPARENT
X-MICROSOFT-CDO-ALLDAYEVENT:TRUE
SUMMARY:12th Annual Ocean Institute Laguna Beach Million Dollar Home Raffle Early Bird Deadline
DESCRIPTION:Early Bird deadline to purchase tickets for the chance to win a Laguna Beach Home or $1 Million Cash!\n\nTicket sales benefit children's educational programs. When kids are inspired\, everyone wins.
X-ALT-DESC;FMTTYPE=text/html:<span style="font-size:16px\;"><span style="font-family:arial\;">Early Bird deadline to p<span style="color: rgb(33\, 33\, 33)\; line-height: normal\;">urchase tickets for the chance to win a Laguna Beach Home or $1 Million Cash!</span></span></span>\n\n<p class="x_MsoNormal" style="margin: 0in 0in 0.0001pt\; font-size: 11pt\; font-family: Calibri\, sans-serif\; color: rgb(33\, 33\, 33)\; line-height: normal\;"><span style="font-size:16px\;"><span style="font-family:arial\;">Ticket sales benefit children&rsquo\;s educational programs. When kids are inspired\, everyone wins.</span></span></p>\n
LOCATION:
UID:e.2189.4865
SEQUENCE:3
DTSTAMP:20260426T033421Z
URL:https://business.danapointchamber.com/events/details/12th-annual-ocean-institute-laguna-beach-million-dollar-home-raffle-early-bird-deadline-08-18-2016-4865
END:VEVENT

END:VCALENDAR
