BEGIN:VCALENDAR
VERSION:2.0
PRODID:-//ChamberMaster//Event Calendar 2.0//EN
METHOD:PUBLISH
X-PUBLISHED-TTL:P3D
REFRESH-INTERVAL:P3D
CALSCALE:GREGORIAN
BEGIN:VEVENT
DTSTART:20180329T163000Z
DTEND:20180330T030000Z
X-MICROSOFT-CDO-ALLDAYEVENT:FALSE
SUMMARY:15th Annual Aliso Viejo Community Cup - Boys and Girls Club of Capo Valley
DESCRIPTION:The Boys and Girls Club of Capistrano Valley are hosting their 15th Annual Aliso Viejo Community Cup.
X-ALT-DESC;FMTTYPE=text/html:The Boys and Girls Club of Capistrano Valley are hosting their 15th Annual Aliso Viejo Community Cup.&nbsp\;
LOCATION:https://www.bgccapo.com/events/event/15th-annual-aliso-viejo-community-cup/
UID:e.2189.7211
SEQUENCE:3
DTSTAMP:20260424T215321Z
URL:https://business.danapointchamber.com/events/details/15th-annual-aliso-viejo-community-cup-boys-and-girls-club-of-capo-valley-7211
END:VEVENT

END:VCALENDAR
