BEGIN:VCALENDAR
VERSION:2.0
PRODID:-//ChamberMaster//Event Calendar 2.0//EN
METHOD:PUBLISH
X-PUBLISHED-TTL:P3D
REFRESH-INTERVAL:P3D
CALSCALE:GREGORIAN
BEGIN:VEVENT
DTSTART:20141212T013000Z
DTEND:20141212T033000Z
X-MICROSOFT-CDO-ALLDAYEVENT:FALSE
SUMMARY:2014 Holiday Mixer
DESCRIPTION:Join us for a special mixer to celebrate the holidays! This event is open to members and non-members to attend. Attendees will have the opportunity to network\, discuss their business with others and generate new business leads   while enjoying delicious hors d'oeuvres\, drinks\, and other festivities provided by our generous host.\n\n\n\nThis mixer will be held at Aventura Sailing Association\, located at 24707 Dana Drive.\n\n\n\nThe cost to attend is $20 for Chamber members and $25 for prospective members. Please help our Chamber grow stronger by bringing a friend   invite a local business owner or even a friend to attend the event!
X-ALT-DESC;FMTTYPE=text/html:<span style="color:#000000\;"><span style="font-family: Arimo\, sans-serif\; font-size: 16px\; line-height: 27.2000007629395px\;">Join us for a special mixer to celebrate the holidays! This event is open to members and non-members to attend. Attendees will have the opportunity to network\, discuss their business with others and generate new business leads &ndash\; while enjoying delicious hors d&rsquo\;oeuvres\, drinks\, and other festivities provided by our generous host.<br />\n<br />\nThis mixer will be held at Aventura Sailing Association\,</span><span style="font-size:16px\;"><span style="font-family:arial\;"><span style="line-height: 27.2000007629395px\;">&nbsp\;located at </span>24707 Dana Dr<span style="line-height: 27.2000007629395px\;">ive.</span></span></span><br />\n<br />\n<span style="font-family: Arimo\, sans-serif\; font-size: 16px\; line-height: 27.2000007629395px\;">The cost to attend is $20 for Chamber members and $25 for prospective members. Please help our Chamber grow stronger by bringing a friend &ndash\; invite a local business owner or even a friend to attend the event!</span></span>
LOCATION:Aventura Sailing Association is located at: 24707 Dana Drive Dana Point CA 92629
UID:e.2189.1854
SEQUENCE:3
DTSTAMP:20260425T114823Z
URL:https://business.danapointchamber.com/events/details/2014-holiday-mixer-12-11-2014-1854
END:VEVENT

END:VCALENDAR
