BEGIN:VCALENDAR
VERSION:2.0
PRODID:-//ChamberMaster//Event Calendar 2.0//EN
METHOD:PUBLISH
X-PUBLISHED-TTL:P3D
REFRESH-INTERVAL:P3D
CALSCALE:GREGORIAN
BEGIN:VEVENT
DTSTART:20151106T170000Z
DTEND:20151106T220000Z
X-MICROSOFT-CDO-ALLDAYEVENT:FALSE
SUMMARY:2015 South County Veterans Summit
DESCRIPTION:2015 South County Veterans Summit. Hosted by OC Supervisor Lisa Bartlett with OC Community Services\, 2-1-1 Orange County\, Saddleback College & OC Veterans Advisory Council present "Connect & Succeed!"
X-ALT-DESC;FMTTYPE=text/html:<strong>2015 South County Veterans Summit</strong>. Hosted by OC Supervisor Lisa Bartlett with OC Community Services\, 2-1-1 Orange County\, Saddleback College &amp\; OC Veterans Advisory Council present&nbsp\;&quot\;Connect &amp\; Succeed!&quot\;
LOCATION:Saddleback College\, 28000 Marguerite Parkway\, Mission Viejo\, Ca 92692
UID:e.2189.4076
SEQUENCE:3
DTSTAMP:20260422T104936Z
URL:https://business.danapointchamber.com/events/details/2015-south-county-veterans-summit-11-06-2015-4076
END:VEVENT

END:VCALENDAR
