BEGIN:VCALENDAR
VERSION:2.0
PRODID:-//ChamberMaster//Event Calendar 2.0//EN
METHOD:PUBLISH
X-PUBLISHED-TTL:P3D
REFRESH-INTERVAL:P3D
CALSCALE:GREGORIAN
BEGIN:VEVENT
DTSTART:20180530T180000Z
DTEND:20180530T203000Z
X-MICROSOFT-CDO-ALLDAYEVENT:FALSE
SUMMARY:2018 State of the City Luncheon
DESCRIPTION:Online reservations are now closed\, please call the chamber office to be placed on a wait list (949) 496-1555.\n\n\n\nThe Dana Point Chamber of Commerce is proud to host the 2018 State of the City Luncheon in partnership with the City of Dana Point. The City will be showing a video featuring Mayor Richard Viczorek\, City Council members\, and others\, focusing on current and future business development in our city. \n\n\n\nWe invite you to join us at this event for your local awareness and posterity\, and encourage your active partnership with us as a sponsor to continue the legacy of economic vitality in Dana Point's small business community. \n\n\n\nIn addition to the video presentation\, we will be presenting our Annual Dana Point Business Beautification Awards. Our Business Awards recognize businesses who have gone above and beyond in new commercial construction\, revitalizing of a current commercial exteriors and landscaping\, or have worked to preserve a historical site for business purposes.\n\n\n\nClick the Register Now button above to reserve your place at this prestigious event. We look forward to sharing in our city's vision with you!\n\n\n\nTrouble registering? Contact kathy@danapointchamber.com.
X-ALT-DESC;FMTTYPE=text/html:<strong><span style="color:#FF0000\;">Online reservations are now closed\, please call the chamber office to be placed on a wait list (949) 496-1555.</span></strong><br />\n<br />\n<span style="font-size:16px\;"><span style="color:#000080\;">The Dana Point Chamber of Commerce is proud to host the 2018 State of the City Luncheon in partnership with the City of Dana Point. The City will be showing a video featuring Mayor Richard Viczorek\, City Council members\, and others\,&nbsp\;focusing on current and future business development in our city.&nbsp\;</span><br />\n<br />\n<span background-color:="" line-height:="" style="font-family: sans-serif\, Arial\, Verdana\, " trebuchet=""><span style="color:#000080\;">We invite you to join us at this event for your local awareness and posterity\, and encourage your active partnership with us as a sponsor to continue the legacy of economic vitality in Dana Point&#39\;s small business community.&nbsp\;<br />\n<br />\nIn addition to the video presentation\, we will be presenting our Annual Dana Point Business Beautification Awards. Our Business Awards recognize businesses who have gone above and beyond in new commercial construction\, revitalizing of a current commercial exteriors and landscaping\, or have worked to preserve a historical site for business purposes.<br />\n<br />\nClick the </span><a href="https://danapoint.chambermaster.com/eventregistration/register/4621"><span style="color:#000080\;">Register Now</span></a><span style="color:#000080\;"> button above to reserve your place at this prestigious event. We look forward to sharing in our city&#39\;s vision with you!<br />\n<br />\nTrouble registering? Contact </span><a href="mailto:admin@danapointchamber.com?subject=Trouble%20Registering%20for%20State%20of%20the%20City"><span style="color:#000080\;">kathy@danapointchamber.com</span></a><span style="color:#000080\;">.</span></span></span><br />\n&nbsp\;
LOCATION:Laguna Cliffs Marriott Resort & Spa 25135 Park Lantern Dana Point\, CA 92629
UID:e.2189.5153
SEQUENCE:3
DTSTAMP:20260424T184224Z
URL:https://business.danapointchamber.com/events/details/2018-state-of-the-city-luncheon-5153
END:VEVENT

END:VCALENDAR
