BEGIN:VCALENDAR
VERSION:2.0
PRODID:-//ChamberMaster//Event Calendar 2.0//EN
METHOD:PUBLISH
X-PUBLISHED-TTL:P3D
REFRESH-INTERVAL:P3D
CALSCALE:GREGORIAN
BEGIN:VEVENT
DTSTART;VALUE=DATE:20170401
DTEND;VALUE=DATE:20170402
TRANSP:TRANSPARENT
X-MICROSOFT-CDO-ALLDAYEVENT:TRUE
SUMMARY:22nd Annual Catalina Island Conservancy Ball
DESCRIPTION:Join us for the 22nd Annual Catalina Island Conservancy Ball.  Over the past 21 years\, this event has raised more than $5.5 million for the Conservancy's conservation\, education and recreation programs.  The black tie event includes dinner and dancing with silent and live auctions.
X-ALT-DESC;FMTTYPE=text/html:Join us for the 22nd&nbsp\;Annual Catalina Island Conservancy Ball. &nbsp\;Over the past 21 years\, this event has raised more than $5.5 million for the Conservancy&#39\;s conservation\, education and recreation programs. &nbsp\;The black tie event includes dinner and dancing with silent and live auctions.
LOCATION:Avalon Casino Ballroom 1 Casino Way Avalon\, CA 90704
UID:e.2189.5155
SEQUENCE:3
DTSTAMP:20260425T152052Z
URL:https://business.danapointchamber.com/events/details/22nd-annual-catalina-island-conservancy-ball-5155
END:VEVENT

END:VCALENDAR
