BEGIN:VCALENDAR
VERSION:2.0
PRODID:-//ChamberMaster//Event Calendar 2.0//EN
METHOD:PUBLISH
X-PUBLISHED-TTL:P3D
REFRESH-INTERVAL:P3D
CALSCALE:GREGORIAN
BEGIN:VEVENT
DTSTART;VALUE=DATE:20150918
DTEND;VALUE=DATE:20150923
TRANSP:TRANSPARENT
X-MICROSOFT-CDO-ALLDAYEVENT:TRUE
SUMMARY:2nd annual Cetacean Summit
DESCRIPTION:Announcing the 2nd annual Cetacean Summit\, a gathering of many of the world leaders of Whale and Dolphin Wisdom\, Healing and Communication.
X-ALT-DESC;FMTTYPE=text/html:<p><span style="color: rgb(0\, 0\, 102)\; font-family: &quot\;Times New Roman&quot\;\,serif\; font-size: 14pt\; mso-fareast-font-family: Calibri\; mso-fareast-theme-font: minor-latin\; mso-ansi-language: EN-US\; mso-fareast-language: EN-US\; mso-bidi-language: AR-SA\;">Announcing the 2<sup>nd</sup> annual Cetacean Summit\, a gathering of many of the world leaders of Whale and Dolphin Wisdom\, Healing and Communication.</span></p>\n
LOCATION:Dana Point\, California
UID:e.2189.4042
SEQUENCE:3
DTSTAMP:20260422T014152Z
URL:https://business.danapointchamber.com/events/details/2nd-annual-cetacean-summit-09-18-2015-4042
END:VEVENT

END:VCALENDAR
