BEGIN:VCALENDAR
VERSION:2.0
PRODID:-//ChamberMaster//Event Calendar 2.0//EN
METHOD:PUBLISH
X-PUBLISHED-TTL:P3D
REFRESH-INTERVAL:P3D
CALSCALE:GREGORIAN
BEGIN:VEVENT
DTSTART:20161007T173000Z
DTEND:20161008T040000Z
X-MICROSOFT-CDO-ALLDAYEVENT:FALSE
SUMMARY:2nd Annual Patriot Pro-Am at Monarch Beach Golf Links
DESCRIPTION:Join us for the 2nd Annual Patriot Pro-Am at Monarch Beach Golf Links benefiting the Southern California Folds of Honor Foundation.\n\n\n\nHonoring their sacrifice\, educating their legacy.  Since 2007\, the Folds of Honor has carried forth this singular\, noble mission.  To stand in the financial gap of the more than one million dependents adversely affected by war\, providing educational scholarships to the children and spouses of those killed or disabled while serving our nation.\n\n\n\nRegister as a single\, your own foursome or multiple foursomes and compete for prizes in a typical scramble format.  A PGA Professional will play as the fifth member in your group and will be competing for a minimum of a $5\,000 purse.  Although the Pro will play their own ball\, your foursome can use their drive as many times as you would like and use their score as part of your scramble.  Enjoy watching\, learning and competing alongside a PGA Pro!
X-ALT-DESC;FMTTYPE=text/html:<span style="color:#000000\;"><span style="font-family:arial\;"><span style="font-size:14px\;">Join us for the 2nd Annual Patriot Pro-Am at Monarch Beach Golf Links benefiting the Southern California Folds of Honor Foundation.<br />\n<br />\nHonoring their sacrifice\, educating their legacy. &nbsp\;Since 2007\, the Folds of Honor has carried forth this singular\, noble mission. &nbsp\;To stand in the financial gap of the more than one million dependents adversely affected by war\, providing educational scholarships to the children and spouses of those killed or disabled while serving our nation.<br />\n<br />\nRegister as a single\, your own foursome or multiple foursomes and compete for prizes in a typical scramble format. &nbsp\;A PGA Professional will play as the fifth member in your group and will be competing for a minimum of a $5\,000 purse. &nbsp\;Although the Pro will play their own ball\, your foursome can use their drive as many times as you would like and use their score as part of your scramble. &nbsp\;Enjoy watching\, learning and competing alongside a PGA Pro!</span></span></span>
LOCATION:Monarch Beach Golf Links 50 Monarch Beach Resort N Dana Point\, CA 92629
UID:e.2189.4876
SEQUENCE:3
DTSTAMP:20260426T003610Z
URL:https://business.danapointchamber.com/events/details/2nd-annual-patriot-pro-am-at-monarch-beach-golf-links-10-07-2016-4876
END:VEVENT

END:VCALENDAR
