BEGIN:VCALENDAR
VERSION:2.0
PRODID:-//ChamberMaster//Event Calendar 2.0//EN
METHOD:PUBLISH
X-PUBLISHED-TTL:P3D
REFRESH-INTERVAL:P3D
CALSCALE:GREGORIAN
BEGIN:VEVENT
DTSTART:20180203T020000Z
DTEND:20180203T050000Z
X-MICROSOFT-CDO-ALLDAYEVENT:FALSE
SUMMARY:3rd Annual Kids Nite Out
DESCRIPTION:Kids Nite Out is a fun filled event that pairs a Club kid with an adult mentor from our local communities for one night. Each mentor spends the evening participating in a variety of fun-filled games\, activities and having a meal with a club member. This is a great way to make a difference in the life of one of our kids. Please join us for this special night.
X-ALT-DESC;FMTTYPE=text/html:Kids Nite Out is a fun filled event that pairs a Club kid with an adult mentor from our local communities for one night. Each mentor spends the evening participating in a variety of fun-filled games\, activities and having a meal with a club member. This is a great way to make a difference in the life of one of our kids. Please join us for this special night.&nbsp\;
LOCATION:Via Positivia Branch 1 Via Positiva San Juan Capistrano\, CA 92675
UID:e.2189.6035
SEQUENCE:3
DTSTAMP:20260424T232818Z
URL:https://business.danapointchamber.com/events/details/3rd-annual-kids-nite-out-6035
END:VEVENT

END:VCALENDAR
