BEGIN:VCALENDAR
VERSION:2.0
PRODID:-//ChamberMaster//Event Calendar 2.0//EN
METHOD:PUBLISH
X-PUBLISHED-TTL:P3D
REFRESH-INTERVAL:P3D
CALSCALE:GREGORIAN
BEGIN:VEVENT
DTSTART:20151109T000000Z
DTEND:20151109T040000Z
X-MICROSOFT-CDO-ALLDAYEVENT:FALSE
SUMMARY:4 Paws Up for a Yappy Chatty Hour!
DESCRIPTION:Please join Pet Project Foundation for our event\, 4 Paws Up for a Yappy Chatty Hour! Ticket price is $35.00\, includes 2 drinks\, food\, and 2 opportunity tickets. Prizes include: 18 speed bicycle Cake made by "It's All About The Cake" Visit www.petprojectfoundation.org to buy tickets!
X-ALT-DESC;FMTTYPE=text/html:Please join Pet Project Foundation for our event\, 4 Paws Up for a Yappy Chatty Hour! Ticket price is $35.00\, includes 2 drinks\, food\, and 2 opportunity tickets. Prizes include: 18 speed bicycle Cake made by &quot\;It&#39\;s All About The Cake&quot\; Visit www.petprojectfoundation.org to buy tickets!
LOCATION:What A Dish Restaurant Dana Marina Plaza 24921 Dana Point Harbor Drive Dana Point
UID:e.2189.4069
SEQUENCE:3
DTSTAMP:20260422T075327Z
URL:https://business.danapointchamber.com/events/details/4-paws-up-for-a-yappy-chatty-hour-11-08-2015-4069
END:VEVENT

END:VCALENDAR
