BEGIN:VCALENDAR
VERSION:2.0
PRODID:-//ChamberMaster//Event Calendar 2.0//EN
METHOD:PUBLISH
X-PUBLISHED-TTL:P3D
REFRESH-INTERVAL:P3D
CALSCALE:GREGORIAN
BEGIN:VEVENT
DTSTART:20151107T030000Z
DTEND:20151107T050000Z
X-MICROSOFT-CDO-ALLDAYEVENT:FALSE
SUMMARY:4th Annual Honor The Valor Game
DESCRIPTION:Dana Hills HS - Honor The Valor Game Charity Football Game \n\nFor the fourth year\, Dana Hills High School football is working to honor our combat veterans from WW II till the present conflicts. This great community event\, centered around a Dana Hills high school football game\, has honored combat veterans and raised over $75\,000 for local veterans organizations in Dana Point and Laguna Niguel in its first three years. Seventy combat veterans will be honored in a series of events this year that culminates at the Dana Hills football game.
X-ALT-DESC;FMTTYPE=text/html:<br />\n<strong>Dana Hills HS - Honor The Valor Game Charity Football Game </strong><br />\nFor the fourth year\, Dana Hills High School football is working to&nbsp\;honor our combat veterans from WW II till the present conflicts. This great community event\, centered around a Dana Hills high school football game\, has honored combat veterans and raised over $75\,000 for local veterans organizations in Dana Point and Laguna Niguel in its first three&nbsp\;years. Seventy&nbsp\;combat veterans will be honored in a series of events this year that culminates at the Dana Hills football game.
LOCATION:Dana Hills High School Football Stadium 33333 Golden Lantern St Dana Point\, CA 92629
UID:e.2189.4074
SEQUENCE:3
DTSTAMP:20260422T055637Z
URL:https://business.danapointchamber.com/events/details/4th-annual-honor-the-valor-game-11-06-2015-4074
END:VEVENT

END:VCALENDAR
