BEGIN:VCALENDAR
VERSION:2.0
PRODID:-//ChamberMaster//Event Calendar 2.0//EN
METHOD:PUBLISH
X-PUBLISHED-TTL:P3D
REFRESH-INTERVAL:P3D
CALSCALE:GREGORIAN
BEGIN:VEVENT
DTSTART:20150705T040000Z
DTEND:20150705T050000Z
X-MICROSOFT-CDO-ALLDAYEVENT:FALSE
SUMMARY:4th of July Extravaganza
DESCRIPTION:Whether you come for a day  at the beach and the evening fireworks display or just for the amazing fireworks extravaganza launched from the barge off shore\, this is a great 4th of July tradition.  It is one of the most popular days at Doheny\, so if you're planning to spend the day at the beach and see the fireworks in the evening\, get an early start as the park fills up early.  You may walk into the park any time during the day with no fee charged.  Park hours are 6 AM to 10 PM.  Fireworks start at 8:45 PM.  Bring a personal FM radio device and listen to the patriotic music accompanying the fireworks on FM 88.5\, KSBR.
X-ALT-DESC;FMTTYPE=text/html:<span style="color: rgb(68\, 68\, 68)\; font-family: 'Open Sans'\, Arial\, Helvetica\, sans-serif\; font-size: 14.3999996185303px\; line-height: 23.0399990081787px\; background-color: rgb(255\, 255\, 255)\;">Whether you come for a day &nbsp\;at the beach and the evening fireworks display or just for the amazing fireworks extravaganza launched from the barge off shore\, this is a great 4th of July tradition. &nbsp\;It&nbsp\;is one of the most popular days at Doheny\, so if you&rsquo\;re planning to spend the day at the beach and see the fireworks in the evening\, get an early start as the park fills up early. &nbsp\;You may walk into the park any time during the day with no fee charged. &nbsp\;Park hours are 6 AM to 10 PM. &nbsp\;Fireworks start at 8:45 PM.&nbsp\; Bring a personal FM radio device and listen to the patriotic music accompanying the fireworks on FM 88.5\, KSBR.</span>
LOCATION:Dana Point Harbor Dana Point \, California 92629
UID:e.2189.2708
SEQUENCE:3
DTSTAMP:20260423T223108Z
URL:https://business.danapointchamber.com/events/details/4th-of-july-extravaganza-07-04-2015-2708
END:VEVENT

END:VCALENDAR
