BEGIN:VCALENDAR
VERSION:2.0
PRODID:-//ChamberMaster//Event Calendar 2.0//EN
METHOD:PUBLISH
X-PUBLISHED-TTL:P3D
REFRESH-INTERVAL:P3D
CALSCALE:GREGORIAN
BEGIN:VEVENT
DTSTART;VALUE=DATE:20160704
DTEND;VALUE=DATE:20160705
TRANSP:TRANSPARENT
X-MICROSOFT-CDO-ALLDAYEVENT:TRUE
SUMMARY:4th of July Fireworks Extravaganza
DESCRIPTION:Whether you come for a day at the beach or for the amazing fireworks extravaganza\, this is a great 4th of July tradition.  It is one of the most popular days at Doheny\, so get an early start and find a spot because the park fills up!  You may walk into the park any time during the day with no fee charged.  Bring a personal FM radio device and listen to the patriotic music accompanying the fireworks on FM 88.5\, KSBR.  \n\nPlease remember that no firecrackers or fireworks are permitted in the park\, and alcoholic drinking is prohibited.
X-ALT-DESC;FMTTYPE=text/html:Whether you come for a day at the beach or for the amazing fireworks extravaganza\, this is a great 4th of July tradition. &nbsp\;It is one of the most popular days at Doheny\, so get an early start and find a spot because the park fills up! &nbsp\;You may walk into the park any time during the day with no fee charged. &nbsp\;Bring a personal FM radio device and listen to the patriotic music accompanying the fireworks on FM 88.5\, KSBR. &nbsp\;<br />\nPlease remember that no firecrackers or fireworks are permitted in the park\, and alcoholic drinking is prohibited. &nbsp\;
LOCATION:Doheny State Beach 25300 Dana Point Harbor Dr Dana Point\, CA 92629
UID:e.2189.4729
SEQUENCE:3
DTSTAMP:20260425T191400Z
URL:https://business.danapointchamber.com/events/details/4th-of-july-fireworks-extravaganza-07-04-2016-4729
END:VEVENT

END:VCALENDAR
