BEGIN:VCALENDAR
VERSION:2.0
PRODID:-//ChamberMaster//Event Calendar 2.0//EN
METHOD:PUBLISH
X-PUBLISHED-TTL:P3D
REFRESH-INTERVAL:P3D
CALSCALE:GREGORIAN
BEGIN:VEVENT
DTSTART;VALUE=DATE:20160916
DTEND;VALUE=DATE:20160919
TRANSP:TRANSPARENT
X-MICROSOFT-CDO-ALLDAYEVENT:TRUE
SUMMARY:58th Annual Catalina Festival of Art
DESCRIPTION:One of the longest running and most acclaimed art festivals in California! Artists from all over the country exhibit along Crescent Avenue and sell their works of fine art\, sculpture\, fine crafts & photography. Highlights include charity art auction and kids art show. Catalina Art Association.
X-ALT-DESC;FMTTYPE=text/html:<span style="color: rgb(95\, 87\, 73)\; font-family: Raleway\, &quot\;Helvetica Neue&quot\;\, Helvetica\, Arial\, sans-serif\; font-size: 16px\; line-height: 24px\; background-color: rgb(254\, 253\, 252)\;">One of the longest running and most acclaimed art festivals in California! Artists from all over the country exhibit along Crescent Avenue and sell their works of fine art\, sculpture\, fine crafts &amp\; photography. Highlights include charity art auction and kids art show. Catalina Art Association.</span>
LOCATION:Avalon\, Catalina Crescent Ave.
UID:e.2189.4892
SEQUENCE:3
DTSTAMP:20260426T020133Z
URL:https://business.danapointchamber.com/events/details/58th-annual-catalina-festival-of-art-4892
END:VEVENT

END:VCALENDAR
