BEGIN:VCALENDAR
VERSION:2.0
PRODID:-//ChamberMaster//Event Calendar 2.0//EN
METHOD:PUBLISH
X-PUBLISHED-TTL:P3D
REFRESH-INTERVAL:P3D
CALSCALE:GREGORIAN
BEGIN:VEVENT
DTSTART:20160820T230000Z
DTEND:20160821T033000Z
X-MICROSOFT-CDO-ALLDAYEVENT:FALSE
SUMMARY:7th Annual Dana Point Lobster Beach Fest: Monarch Beach Sunrise Rotary Club
DESCRIPTION:Come join the fun at the 2016 Dana Point Lobster Beach Fest at Doheny State Beach on Saturday\, August 20th\, hosted by the Monarch Beach Sunrise Rotary Club.  Enjoy gourmet appetizers\, no-host bar\, fresh east coast lobster\, smoked tri-tip steak\, desserts\, live music\, DJ\, dancing and an amazing Silent Auction.  \n\nProceeds go to charities supported by the Monarch Beach Sunrise Rotary Club including Make-A-Wish\, Boys & Girls Club\, Dana Point 5th Marine Support Group and more.
X-ALT-DESC;FMTTYPE=text/html:Come join the fun at the 2016 Dana Point Lobster Beach Fest at Doheny&nbsp\;State Beach on Saturday\, August 20th\, hosted by the Monarch Beach Sunrise Rotary Club. &nbsp\;Enjoy gourmet appetizers\, no-host bar\, fresh east coast lobster\, smoked tri-tip steak\, desserts\, live music\, DJ\, dancing and an amazing Silent Auction. &nbsp\;<br />\nProceeds go to charities supported by the Monarch Beach Sunrise Rotary Club including Make-A-Wish\, Boys &amp\; Girls Club\, Dana Point 5th Marine Support Group and more.&nbsp\;
LOCATION:Doheny State Beach 25300 Dana Point Harbor Dr Dana Point\, CA 92629
UID:e.2189.4717
SEQUENCE:3
DTSTAMP:20260426T033421Z
URL:https://business.danapointchamber.com/events/details/7th-annual-dana-point-lobster-beach-fest-monarch-beach-sunrise-rotary-club-08-20-2016-4717
END:VEVENT

END:VCALENDAR
