BEGIN:VCALENDAR
VERSION:2.0
PRODID:-//ChamberMaster//Event Calendar 2.0//EN
METHOD:PUBLISH
X-PUBLISHED-TTL:P3D
REFRESH-INTERVAL:P3D
CALSCALE:GREGORIAN
BEGIN:VEVENT
DTSTART:20260527T183000Z
DTEND:20260527T203000Z
X-MICROSOFT-CDO-ALLDAYEVENT:FALSE
SUMMARY:AI for Business Workshop
DESCRIPTION:The Dana Point Chamber of Commerce\, in partnership with the City of Dana Point and SCORE\, presents a practical two-part educational series designed for business owners who want to use AI to create content more efficiently and apply it more effectively in their marketing. \n\n\n\nPart 1: Presentation | Wednesday\, May 27th 11:30 AM   1:30 PM\n\nWhere AI Content Meets Marketing Strategy\n\nDana Point Community Center\n\n\n\nPart 2: Workshop |Wednesday\, June 3rd 11:30 AM   1:30 PM\n\nFrom Strategy to Execution: An AI Content Hands-On Workshop\n\nDana Point Community Center \n\n\n\nIn Part 1\, you'll learn both how to create content using ChatGPT and Canva and how to implement that content across your marketing. In Part 2\, you'll work hands-on with these tools\, building content for your own business with guidance in the room.\n\n \n\nThis series is ideal for business owners\, marketers\, and professionals who want a more structured\, realistic approach to AI in their day-to-day marketing.\n\n\n\nEach session is $5 and lunch is included. For more information and to register for one or both sessions\, visit the Eventbrite registration page.
X-ALT-DESC;FMTTYPE=text/html:<span style="font-size:16px\;"><span style="font-family:verdana\;"><span style="color:#000000\;">The Dana Point Chamber of Commerce\, in partnership with the City of Dana Point and SCORE\, presents a practical two-part educational series designed for business owners who want to use AI to create content more efficiently and apply it more effectively in their marketing.&nbsp\;</span><br />\n<br />\n<strong>Part 1: Presentation | Wednesday\, May 27<sup>th</sup> 11:30 AM &ndash\; 1:30 PM</strong><br />\n<strong>Where AI Content Meets Marketing Strategy<br />\nDana Point Community Center</strong><br />\n<br />\n<strong>Part 2: Workshop |Wednesday\, June 3<sup>rd</sup> 11:30 AM &ndash\; 1:30 PM</strong><br />\n<strong>From Strategy to Execution: An AI Content Hands-On Workshop<br />\nDana Point Community Center&nbsp\;</strong><br />\n<br />\nIn&nbsp\;Part 1\, you&rsquo\;ll learn both how to create content using ChatGPT and Canva and how to implement that content across your marketing. In&nbsp\;Part 2<strong>\,</strong>&nbsp\;you&rsquo\;ll work hands-on with these tools\, building content for your own business with guidance in the room.<br />\n&#8203\;<br />\nThis series is ideal for business owners\, marketers\, and professionals who want a more structured\, realistic approach to AI in their day-to-day marketing.<br />\n<br />\nEach session is $5 and lunch is included. <strong>For more information and to register for one or both sessions\, <a href="https://www.eventbrite.com/e/ai-for-business-a-two-part-in-person-series-tickets-1987572244086?aff=ChamberCalendar">visit the Eventbrite registration page</a>.</strong>&nbsp\;</span></span><br />\n&nbsp\;
LOCATION:Dana Point Community Center 34052 Del Obispo St Dana Point\, CA 92629
UID:e.2189.17562
SEQUENCE:3
DTSTAMP:20260421T112939Z
URL:https://business.danapointchamber.com/events/details/ai-for-business-workshop-17562
END:VEVENT

END:VCALENDAR
