BEGIN:VCALENDAR
VERSION:2.0
PRODID:-//ChamberMaster//Event Calendar 2.0//EN
METHOD:PUBLISH
X-PUBLISHED-TTL:P3D
REFRESH-INTERVAL:P3D
CALSCALE:GREGORIAN
BEGIN:VEVENT
DTSTART:20150523T153000Z
DTEND:20150523T230000Z
X-MICROSOFT-CDO-ALLDAYEVENT:FALSE
SUMMARY:Aquafest 2015
DESCRIPTION:The Dana Point Aquatic Foundation & Westwind Sailing are hosting an Open House on Saturday\, May 23rd to celebrate National Safe Boating Week and to showcase the public access boating and recreational programming offered at the OC Sailing & Events Center. The Center hosts lots of great programs and activities for the whole family. Come join in on the fun!
X-ALT-DESC;FMTTYPE=text/html:The Dana Point Aquatic Foundation &amp\; Westwind Sailing are hosting an Open House on Saturday\, May 23rd to celebrate National Safe Boating Week and to showcase the public access boating and recreational programming offered at the OC Sailing &amp\; Events Center. The Center hosts lots of great programs and activities for the whole family. Come join in on the fun!
LOCATION:OC Sailing & Events Center\, Dana Point Harbor 34451 Ensenada Place\, Dana Point\, CA 92629
UID:e.2189.2591
SEQUENCE:3
DTSTAMP:20260423T221446Z
URL:https://business.danapointchamber.com/events/details/aquafest-2015-05-23-2015-2591
END:VEVENT

END:VCALENDAR
