BEGIN:VCALENDAR
VERSION:2.0
PRODID:-//ChamberMaster//Event Calendar 2.0//EN
METHOD:PUBLISH
X-PUBLISHED-TTL:P3D
REFRESH-INTERVAL:P3D
CALSCALE:GREGORIAN
BEGIN:VEVENT
DTSTART:20151003T160000Z
DTEND:20151003T210000Z
X-MICROSOFT-CDO-ALLDAYEVENT:FALSE
SUMMARY:Arts & Crafts Fair
DESCRIPTION:
X-ALT-DESC;FMTTYPE=text/html:
LOCATION:10/3/2015 9:00 AM - 2:00 PM
UID:e.2189.2734
SEQUENCE:3
DTSTAMP:20260421T030736Z
URL:https://business.danapointchamber.com/events/details/arts-crafts-fair-10-03-2015-2734
END:VEVENT

END:VCALENDAR
