BEGIN:VCALENDAR
VERSION:2.0
PRODID:-//ChamberMaster//Event Calendar 2.0//EN
METHOD:PUBLISH
X-PUBLISHED-TTL:P3D
REFRESH-INTERVAL:P3D
CALSCALE:GREGORIAN
BEGIN:VEVENT
DTSTART:20160410T030000Z
DTEND:20160410T050000Z
X-MICROSOFT-CDO-ALLDAYEVENT:FALSE
SUMMARY:Bioluminescence Night Cruise
DESCRIPTION:Learn about the remarkable ability of some marine animals to glow in the dark and witness the curiously Join the Ocean Institute and come aboard the R/V Sea Explorer and enjoy a night off the coast of Dana Point to encounter bioluminescent plankton.
X-ALT-DESC;FMTTYPE=text/html:Learn about the remarkable ability of some marine animals to glow in the dark and witness the curiously&nbsp\;Join the Ocean Institute and come aboard the R/V Sea Explorer and enjoy a night off the coast of Dana Point to encounter bioluminescent plankton. &nbsp\;
LOCATION:Ocean Institute 24200 Dana Point Harbor Dr. Dana Point\, CA 92629
UID:e.2189.4702
SEQUENCE:3
DTSTAMP:20260421T083859Z
URL:https://business.danapointchamber.com/events/details/bioluminescence-night-cruise-04-09-2016-4702
END:VEVENT

END:VCALENDAR
