BEGIN:VCALENDAR
VERSION:2.0
PRODID:-//ChamberMaster//Event Calendar 2.0//EN
METHOD:PUBLISH
X-PUBLISHED-TTL:P3D
REFRESH-INTERVAL:P3D
CALSCALE:GREGORIAN
BEGIN:VEVENT
DTSTART:20220127T173000Z
DTEND:20220128T000000Z
X-MICROSOFT-CDO-ALLDAYEVENT:FALSE
SUMMARY:Blood Drive: Dana Point Harbor
DESCRIPTION:Dana Point Harbor Partners\, in collaboration with the American Red Cross\, will host a blood drive with the Red Cross Bloodmobile on Thursday\, January 27 from 9:30 a.m. to 4 p.m. iHeartYoga will be offering a free yoga class\, to be used within 30 days\, for each donor on the day of the drive. Donors who have made an appointment\, and walk-ins\, will be able to sign up to receive their free yoga class via email the following day. Donors will also receive a coupon for either a cup of coffee or scoop of ice cream from Coffee Importers and a tote bag from Killer Dana Surf Shop. \n\n\n\nThere is an urgent need for donations due to the dangerously low blood supply. Scheduling an appointment is highly encouraged and can be done through RedCrossBlood.org using the sponsor code "DPHP." \n\n\n\nFor more information\, visit DanaPointHarbor.com or RedCrossBlood.org or connect with us via Facebook\, Instagram\, or Twitter
X-ALT-DESC;FMTTYPE=text/html:<span style="font-size:14px\;"><span style="font-family:arial\;"><span style="color:#000000\;">Dana Point Harbor Partners\, in collaboration with the American Red Cross\, will host a blood drive with the Red Cross Bloodmobile on Thursday\, January 27 from 9:30 a.m. to 4 p.m. </span><a href="https://www.iheartyoga.org/" target="_blank"><span style="color:#000000\;">iHeartYoga</span></a><span style="color:#000000\;"> will be offering a free yoga class\, to be used within 30 days\, for each donor on the day of the drive. Donors who have made an appointment\, and walk-ins\, will be able to sign up to receive their free yoga class via email the following day. Donors will also receive a coupon for either a cup of coffee or scoop of ice cream from Coffee Importers and a tote bag from Killer Dana Surf Shop.&nbsp\;<br />\n<br />\nThere is an urgent need for donations due to the dangerously low blood supply. Scheduling an appointment is highly encouraged and can be done through </span><a href="https://www.redcrossblood.org/give.html/drive-results?zipSponsor=DPHP&amp\;fbclid=IwAR2V4qslJqeXc_CQXGzgKpO9PtqWyBS00e21IQE5xxsmd0MT34isLLlXn4E" target="_blank"><span style="color:#000000\;">RedCrossBlood.org</span></a><span style="color:#000000\;"> using the sponsor code &ldquo\;DPHP.&rdquo\;&nbsp\;<br />\n<br />\nFor more information\, visit <a href="https://danapointharbor.com/">DanaPointHarbor.com</a> or <a href="https://www.redcrossblood.org/">RedCrossBlood.org</a> or connect with us via <a href="https://www.facebook.com/DanaPointHarbor/">Facebook</a>\, <a href="https://www.instagram.com/danapoint_harbor/">Instagram</a>\, or <a href="https://twitter.com/DanaPointHarbor?ref_src=twsrc%5Egoogle%7Ctwcamp%5Eserp%7Ctwgr%5Eauthor">Twitter</a>&nbsp\;</span></span></span>
LOCATION:Dana Point Harbor 34521 Golden Lantern Dana Point\, CA 92629 The Bloodmobile will be located in the parking lot at the corner of Golden Lantern and Dana Point Harbor Drive.
UID:e.2189.13543
SEQUENCE:3
DTSTAMP:20260425T210408Z
URL:https://business.danapointchamber.com/events/details/blood-drive-dana-point-harbor-13543
END:VEVENT

END:VCALENDAR
