BEGIN:VCALENDAR
VERSION:2.0
PRODID:-//ChamberMaster//Event Calendar 2.0//EN
METHOD:PUBLISH
X-PUBLISHED-TTL:P3D
REFRESH-INTERVAL:P3D
CALSCALE:GREGORIAN
BEGIN:VEVENT
DTSTART:20220130T160000Z
DTEND:20220130T220000Z
X-MICROSOFT-CDO-ALLDAYEVENT:FALSE
SUMMARY:Blood Drive: Monarch Beach Rotary
DESCRIPTION:Monarch Beach Sunrise Rotary Club along with The Red Cross will be holding a blood drive to help save lives and prepare our community for emergencies. YOU can make a difference!\n\n\n\nSunday\, January 30\, 2022\n\n8:00 AM - 2:00 PM \n\nDana Point Community Center \n\n\n\nSchedule an appointment to donate blood! Enter the sponsor code Monarch Beach Rotary in the top right corner to locate the appointment times.
X-ALT-DESC;FMTTYPE=text/html:<span style="color: rgb(5\, 5\, 5)\; font-family: Arial\, sans-serif\; font-size: 18.6667px\;">Monarch Beach Sunrise Rotary Club along with The Red Cross will be holding a blood drive to help save lives and prepare our community for emergencies.&nbsp\;</span><b style="color: rgb(5\, 5\, 5)\; font-family: Arial\, sans-serif\; font-size: 18.6667px\;">YOU</b><span style="color: rgb(5\, 5\, 5)\; font-family: Arial\, sans-serif\; font-size: 18.6667px\;">&nbsp\;can make a difference!<br />\n<br />\nSunday\, January 30\, 2022<br />\n8:00 AM - 2:00 PM&nbsp\;<br />\nDana Point Community Center&nbsp\;<br />\n<br />\n<a href="https://www.redcrossblood.org/">Schedule an appointment to donate blood</a>! Enter the sponsor code <em>Monarch Beach Rotary</em>&nbsp\;in the top right corner to locate the appointment times.&nbsp\;</span>
LOCATION:Dana Point Community Center 34502 Del Obispo Dana Point\, CA 92629
UID:e.2189.13462
SEQUENCE:3
DTSTAMP:20260425T211148Z
URL:https://business.danapointchamber.com/events/details/blood-drive-monarch-beach-rotary-13462
END:VEVENT

END:VCALENDAR
