BEGIN:VCALENDAR
VERSION:2.0
PRODID:-//ChamberMaster//Event Calendar 2.0//EN
METHOD:PUBLISH
X-PUBLISHED-TTL:P3D
REFRESH-INTERVAL:P3D
CALSCALE:GREGORIAN
BEGIN:VEVENT
DTSTART:20151205T180000Z
DTEND:20151205T220000Z
X-MICROSOFT-CDO-ALLDAYEVENT:FALSE
SUMMARY:Boat Rides with Santa
DESCRIPTION:Come aboard for a twenty-minute Harbor cruise with Santa and his helpers. Santa will be hearing those Christmas wishes as you cruise the Harbor. Bring your cameras for pictures with Santa. A $3 Donation to the El Camino Real Junior Woman's Club would be appreciated.
X-ALT-DESC;FMTTYPE=text/html:Come aboard for a twenty-minute Harbor cruise with Santa and his helpers. Santa will be hearing those Christmas wishes as you cruise the Harbor. Bring your cameras for pictures with Santa. A $3 Donation to the El Camino Real Junior Woman&#39\;s Club would be appreciated.
LOCATION:East end of Dana Point Harbor at Dana Wharf Sportfishing Docks 34675 Golden Lantern\, between Waterman's Harbor and the Wind & Sea. Boats donated by Dana Wharf Sportfishing.
UID:e.2189.4373
SEQUENCE:3
DTSTAMP:20260423T075549Z
URL:https://business.danapointchamber.com/events/details/boat-rides-with-santa-12-05-2015-4373
END:VEVENT

END:VCALENDAR
