BEGIN:VCALENDAR
VERSION:2.0
PRODID:-//ChamberMaster//Event Calendar 2.0//EN
METHOD:PUBLISH
X-PUBLISHED-TTL:P3D
REFRESH-INTERVAL:P3D
CALSCALE:GREGORIAN
BEGIN:VEVENT
DTSTART;VALUE=DATE:20141031
DTEND;VALUE=DATE:20141101
TRANSP:TRANSPARENT
X-MICROSOFT-CDO-ALLDAYEVENT:TRUE
SUMMARY:Brio's Annual Halloween Bash
DESCRIPTION:
X-ALT-DESC;FMTTYPE=text/html:
LOCATION:Brio Tuscany Grille 24050 Camino Del Avion Dana Point\, CA 92629 P: 949-443-1476
UID:e.2189.1849
SEQUENCE:3
DTSTAMP:20260426T013919Z
URL:https://business.danapointchamber.com/events/details/brio-s-annual-halloween-bash-10-31-2014-1849
END:VEVENT

END:VCALENDAR
