BEGIN:VCALENDAR
VERSION:2.0
PRODID:-//ChamberMaster//Event Calendar 2.0//EN
METHOD:PUBLISH
X-PUBLISHED-TTL:P3D
REFRESH-INTERVAL:P3D
CALSCALE:GREGORIAN
BEGIN:VEVENT
DTSTART:20150213T020000Z
DTEND:20150213T030000Z
X-MICROSOFT-CDO-ALLDAYEVENT:FALSE
SUMMARY:Business Mixer
DESCRIPTION:Let's get to know each other as the new Town Center launch moves forward. Come and mingle with other business owners so we can build a strong beginning to our new revitalized downtown area.
X-ALT-DESC;FMTTYPE=text/html:Let&#39\;s get to know each other as the new Town Center launch moves forward. Come and mingle with other business owners so we can build a strong beginning to our new revitalized downtown area.
LOCATION:Wind and Sea Restaurant\, UPPER FLOOR
UID:e.2189.2447
SEQUENCE:3
DTSTAMP:20260424T200942Z
URL:https://business.danapointchamber.com/events/details/business-mixer-02-12-2015-2447
END:VEVENT

END:VCALENDAR
