BEGIN:VCALENDAR
VERSION:2.0
PRODID:-//ChamberMaster//Event Calendar 2.0//EN
METHOD:PUBLISH
X-PUBLISHED-TTL:P3D
REFRESH-INTERVAL:P3D
CALSCALE:GREGORIAN
BEGIN:VEVENT
DTSTART:20161027T010000Z
DTEND:20161027T020000Z
X-MICROSOFT-CDO-ALLDAYEVENT:FALSE
SUMMARY:CANCELLED: Government Affairs Update: Strands At Headlands New Project & Measure M
DESCRIPTION:THIS EVENT HAS BEEN CANCELED DUE TO LOW REGISTRATION:  \n\n\n\nPlease join our Government Affairs Committee in welcoming the following speakers:\n\n	Sanford Edwards of Headlands Reserve Inc with an update on the next phase of the Headlands at Strands. \n	Wayne Brown\, South Orange County Economic Coalition Government Affairs with an overview of Capistrano Unified School District Measure M.
X-ALT-DESC;FMTTYPE=text/html:<u><strong><span style="color:#B22222\;">THIS EVENT HAS BEEN CANCELED&nbsp\;DUE TO LOW REGISTRATION: &nbsp\;</span></strong></u><br />\n<br />\nPlease join our Government Affairs Committee in welcoming&nbsp\;the following speakers:\n<ul>\n	<li>Sanford Edwards of Headlands Reserve Inc with an update on the next phase of the Headlands at Strands.&nbsp\;</li>\n	<li>Wayne Brown\, South Orange County Economic Coalition Government Affairs with an overview of Capistrano Unified School District Measure M. &nbsp\;</li>\n</ul>\n<br />\n<br />\n<br />\n<br />\n&nbsp\;
LOCATION:Women's Community House 24642 San Juan Ave Dana Point\, CA 92629
UID:e.2189.4922
SEQUENCE:3
DTSTAMP:20260426T003712Z
URL:https://business.danapointchamber.com/events/details/cancelled-government-affairs-update-strands-at-headlands-new-project-measure-m-4922
END:VEVENT

END:VCALENDAR
