BEGIN:VCALENDAR
VERSION:2.0
PRODID:-//ChamberMaster//Event Calendar 2.0//EN
METHOD:PUBLISH
X-PUBLISHED-TTL:P3D
REFRESH-INTERVAL:P3D
CALSCALE:GREGORIAN
BEGIN:VEVENT
DTSTART:20160919T160000Z
DTEND:20160920T020000Z
X-MICROSOFT-CDO-ALLDAYEVENT:FALSE
SUMMARY:Capistrano Ford 17th Annual Boys and Girls Club Golf Tournament
DESCRIPTION:Join Capistrano Ford in their 17th annual golf tournament benefiting the Boys and Girls Club of Capistrano Valley!\n\n\n\nAll players will receive the following benefits:\n\n	18 holes of golf\n	Lunch and on course beverages\n	Banquet dinner\n	Contest opportunities Opportunity to win a hole -in -one car from Tuttle -Click Capistrano Ford
X-ALT-DESC;FMTTYPE=text/html:Join Capistrano Ford in their 17th&nbsp\;annual golf tournament benefiting the Boys and Girls Club of Capistrano Valley!<br>\n<br>\nAll players will receive the following benefits:\n<ul>\n	<li>18 holes of golf</li>\n	<li>Lunch and on course beverages</li>\n	<li>Banquet dinner</li>\n	<li>Contest opportunities Opportunity to win a hole -in -one car from Tuttle -Click Capistrano Ford&nbsp\;</li>\n</ul>\n
LOCATION:El Niguel Country Club 23700 Club House Dr. Laguna Niguel\, CA 92677
UID:e.2189.4886
SEQUENCE:3
DTSTAMP:20260426T020257Z
URL:https://business.danapointchamber.com/events/details/capistrano-ford-17th-annual-boys-and-girls-club-golf-tournament-09-19-2016-4886
END:VEVENT

END:VCALENDAR
