BEGIN:VCALENDAR
VERSION:2.0
PRODID:-//ChamberMaster//Event Calendar 2.0//EN
METHOD:PUBLISH
X-PUBLISHED-TTL:P3D
REFRESH-INTERVAL:P3D
CALSCALE:GREGORIAN
BEGIN:VEVENT
DTSTART:20160612T000000Z
DTEND:20160612T040000Z
X-MICROSOFT-CDO-ALLDAYEVENT:FALSE
SUMMARY:Celebrating 50 years!
DESCRIPTION:A 50th Anniversary sculpture exhibition of the work of award winning artist\, Ron Whitacre\, is being planned for the weekend of June 11 and 12 at an intimate venue on the Frederick M. Lang estate in South Laguna Beach. Whitacre's sculptural works\, created mainly in welded steel and bronze\, are unusual in their fluidity and movement. In Laguna\, his best known work is "Harmony" a large steel sculpture of a man\, woman\, and child\, installed in 1998 over the entrance to the Art-A-Fair. You will have 2 opportunities to view Whitacre's recent sculpture and drawings starting with a Champagne Reception on Saturday June 11\, 5:00 pm to 9:00 pm There is also a more casual open house on Sunday June 12\, 11:00 to 3:00 pm. This is a complimentary event\, but we ask you to please register through www.Eventbright.com so we can make sure we have enough champagne for everyone. If you are unable to attend this event please check out Whitacre Studio on facebook and join the mailing list under the email signup tab to be informed of future events. Please note: Parking is limited as the event is in a residential area\, so please plan to car-pool\, or use the Laguna Beach weekend Trolley.
X-ALT-DESC;FMTTYPE=text/html:A 50th Anniversary sculpture exhibition of the work of award winning artist\, Ron Whitacre\, is being planned for the weekend of June 11 and 12 at an intimate venue on the Frederick M. Lang estate in South Laguna Beach. Whitacre&rsquo\;s sculptural works\, created mainly in welded steel and bronze\, are unusual in their fluidity and movement. In Laguna\, his best known work is &ldquo\;Harmony&rdquo\; a large steel sculpture of a man\, woman\, and child\, installed in 1998 over the entrance to the Art-A-Fair. You will have 2 opportunities to view Whitacre&rsquo\;s recent sculpture and drawings starting with a Champagne Reception on Saturday June 11\, 5:00 pm to 9:00 pm There is also a more casual open house on Sunday June 12\, 11:00 to 3:00 pm. This is a complimentary event\, but we ask you to please register through www.Eventbright.com so we can make sure we have enough champagne for everyone. If you are unable to attend this event please check out Whitacre Studio on facebook and join the mailing list under the email signup tab to be informed of future events. Please note: Parking is limited as the event is in a residential area\, so please plan to car-pool\, or use the Laguna Beach weekend Trolley.
LOCATION:Private residence in Laguna Beach
UID:e.2189.4777
SEQUENCE:3
DTSTAMP:20260420T221936Z
URL:https://business.danapointchamber.com/events/details/celebrating-50-years-06-11-2016-4777
END:VEVENT

END:VCALENDAR
