BEGIN:VCALENDAR
VERSION:2.0
PRODID:-//ChamberMaster//Event Calendar 2.0//EN
METHOD:PUBLISH
X-PUBLISHED-TTL:P3D
REFRESH-INTERVAL:P3D
CALSCALE:GREGORIAN
BEGIN:VEVENT
DTSTART:20150221T183000Z
DTEND:20150221T203000Z
X-MICROSOFT-CDO-ALLDAYEVENT:FALSE
SUMMARY:Chinese New Year Showcase
DESCRIPTION:Featuring a brand new interactive platform where attendees participate in a free Wing Chun educational workshop put on by the students of The Dragon Institute!\n\n\n\nLearn Wing Chun self-defense applications\, learn moves on the wooden dummy\, experience the one-inch punch\, qigong\, Chinese medicine and moving meditations. Plus crafts\, facepainting and a lion dance for the kids!
X-ALT-DESC;FMTTYPE=text/html:Featuring a brand new interactive platform where attendees participate in a free Wing Chun educational workshop put on by the students of The Dragon Institute!<br />\n<br />\nLearn Wing Chun self-defense applications\, learn moves on the wooden dummy\, experience the one-inch punch\, qigong\, Chinese medicine and moving meditations. Plus crafts\, facepainting and a lion dance for the kids!
LOCATION:Lantern Bay Park
UID:e.2189.2275
SEQUENCE:3
DTSTAMP:20260426T022815Z
URL:https://business.danapointchamber.com/events/details/chinese-new-year-showcase-02-21-2015-2275
END:VEVENT

END:VCALENDAR
