BEGIN:VCALENDAR
VERSION:2.0
PRODID:-//ChamberMaster//Event Calendar 2.0//EN
METHOD:PUBLISH
X-PUBLISHED-TTL:P3D
REFRESH-INTERVAL:P3D
CALSCALE:GREGORIAN
BEGIN:VEVENT
DTSTART:20180418T010000Z
DTEND:20180418T030000Z
X-MICROSOFT-CDO-ALLDAYEVENT:FALSE
SUMMARY:City Council Meeting
DESCRIPTION:
X-ALT-DESC;FMTTYPE=text/html:&nbsp\;&nbsp\;&nbsp\;&nbsp\;
LOCATION:Dana Point City Hall - Council Chambers 33282 Golden Lantern Dana Point\, CA 92629
UID:e.2189.6014
SEQUENCE:3
DTSTAMP:20260420T152715Z
URL:https://business.danapointchamber.com/events/details/city-council-meeting-6014
END:VEVENT

END:VCALENDAR
