BEGIN:VCALENDAR
VERSION:2.0
PRODID:-//ChamberMaster//Event Calendar 2.0//EN
METHOD:PUBLISH
X-PUBLISHED-TTL:P3D
REFRESH-INTERVAL:P3D
CALSCALE:GREGORIAN
BEGIN:VEVENT
DTSTART;VALUE=DATE:20150216
DTEND;VALUE=DATE:20150217
TRANSP:TRANSPARENT
X-MICROSOFT-CDO-ALLDAYEVENT:TRUE
SUMMARY:City Offices Closed
DESCRIPTION:All City Offices will be closed to honor President's Day
X-ALT-DESC;FMTTYPE=text/html:All City Offices will be closed to honor President&#39\;s Day
LOCATION:All offices will resume their normal business hours on 2/17/15
UID:e.2189.2063
SEQUENCE:3
DTSTAMP:20260424T091136Z
URL:https://business.danapointchamber.com/events/details/city-offices-closed-02-16-2015-2063
END:VEVENT

END:VCALENDAR
