BEGIN:VCALENDAR
VERSION:2.0
PRODID:-//ChamberMaster//Event Calendar 2.0//EN
METHOD:PUBLISH
X-PUBLISHED-TTL:P3D
REFRESH-INTERVAL:P3D
CALSCALE:GREGORIAN
BEGIN:VEVENT
DTSTART;VALUE=DATE:20150216
DTEND;VALUE=DATE:20150217
TRANSP:TRANSPARENT
X-MICROSOFT-CDO-ALLDAYEVENT:TRUE
SUMMARY:CLOSED:Chamber Office
DESCRIPTION:The Dana Point Chamber of Commerce will be closed in honor of President's Day.
X-ALT-DESC;FMTTYPE=text/html:The Dana Point Chamber of Commerce will be closed in honor of President&#39\;s Day.
LOCATION:Our normal business hours will resume on 2/17/15
UID:e.2189.2066
SEQUENCE:3
DTSTAMP:20260424T065039Z
URL:https://business.danapointchamber.com/events/details/closed-chamber-office-02-16-2015-2066
END:VEVENT

END:VCALENDAR
