BEGIN:VCALENDAR
VERSION:2.0
PRODID:-//ChamberMaster//Event Calendar 2.0//EN
METHOD:PUBLISH
X-PUBLISHED-TTL:P3D
REFRESH-INTERVAL:P3D
CALSCALE:GREGORIAN
BEGIN:VEVENT
DTSTART;VALUE=DATE:20141224
DTEND;VALUE=DATE:20141226
TRANSP:TRANSPARENT
X-MICROSOFT-CDO-ALLDAYEVENT:TRUE
SUMMARY:CLOSED:Chamber Office
DESCRIPTION:Happy Holidays! The Chamber will be closed on Christmas Eve and Christmas Day.  Business will resume December 26th.
X-ALT-DESC;FMTTYPE=text/html:Happy Holidays! The Chamber will be closed on Christmas Eve and Christmas Day. &nbsp\;Business will resume December 26th.
LOCATION:
UID:e.2189.1895
SEQUENCE:3
DTSTAMP:20260424T065953Z
URL:https://business.danapointchamber.com/events/details/closed-chamber-office-12-24-2014-1895
END:VEVENT

END:VCALENDAR
