BEGIN:VCALENDAR
VERSION:2.0
PRODID:-//ChamberMaster//Event Calendar 2.0//EN
METHOD:PUBLISH
X-PUBLISHED-TTL:P3D
REFRESH-INTERVAL:P3D
CALSCALE:GREGORIAN
BEGIN:VEVENT
DTSTART;VALUE=DATE:20141231
DTEND;VALUE=DATE:20150103
TRANSP:TRANSPARENT
X-MICROSOFT-CDO-ALLDAYEVENT:TRUE
SUMMARY:CLOSED:Chamber Office
DESCRIPTION:Happy Holidays! The Chamber will be closed on New Years Eve\, New Years Day and January 2nd and will resume business on January 5th
X-ALT-DESC;FMTTYPE=text/html:Happy Holidays! The Chamber will be closed on New Years Eve\, New Years Day and January 2nd and will resume business on January 5th
LOCATION:
UID:e.2189.1896
SEQUENCE:3
DTSTAMP:20260424T064547Z
URL:https://business.danapointchamber.com/events/details/closed-chamber-office-12-31-2014-1896
END:VEVENT

END:VCALENDAR
