BEGIN:VCALENDAR
VERSION:2.0
PRODID:-//ChamberMaster//Event Calendar 2.0//EN
METHOD:PUBLISH
X-PUBLISHED-TTL:P3D
REFRESH-INTERVAL:P3D
CALSCALE:GREGORIAN
BEGIN:VEVENT
DTSTART:20170221T220000Z
DTEND:20170221T230000Z
X-MICROSOFT-CDO-ALLDAYEVENT:FALSE
SUMMARY:Commercial Organics Recycling Information Meeting
DESCRIPTION:Join us for an informative talk on Mandatory Commercial Organics Recycling\, given by Tyler Douthitt from CR&R Waste Services. \n\n\n\nIn October 2014 Governor Brown signed AB 1826 Chesbro (Chapter 727\, Statutes of 2014)\, requiring businesses to recycle their organic waste on and after April 1\, 2016\, depending on the amount of waste they generate per week. This law also requires that on and after January 1\, 2016\, local jurisdictions across the state implement an organic waste recycling program to divert organic waste generated by businesses.
X-ALT-DESC;FMTTYPE=text/html:<span style="font-size:16px\;"><span style="font-family:arial\;">Join us for an informative talk on Mandatory Commercial Organics Recycling\, given by Tyler Douthitt&nbsp\;from CR&amp\;R Waste Services.&nbsp\;<br />\n<br />\n<span style="color: rgb(0\, 0\, 0)\;">In October 2014 Governor Brown signed&nbsp\;</span><a href="http://leginfo.legislature.ca.gov/faces/billNavClient.xhtml?bill_id=201320140AB1826&amp\;search_keywords" style="color: rgb(128\, 0\, 96)\; font-family: Arial\, Helvetica\, sans-serif\; font-size: 12.8px\;">AB 1826 Chesbro (Chapter 727\, Statutes of 2014)</a><span style="color: rgb(0\, 0\, 0)\;">\, requiring businesses to recycle their organic waste on and after April 1\, 2016\, depending on the amount of waste they generate per week. This law also requires that on and after January 1\, 2016\, local jurisdictions across the state implement an organic waste recycling program to divert organic waste generated by businesses.</span></span></span>
LOCATION:Wind & Sea Restaurant Private Upstairs Hall 34699 Golden Lantern St Dana Point\, CA 92629
UID:e.2189.5514
SEQUENCE:3
DTSTAMP:20260425T200810Z
URL:https://business.danapointchamber.com/events/details/commercial-organics-recycling-information-meeting-5514
END:VEVENT

END:VCALENDAR
