BEGIN:VCALENDAR
VERSION:2.0
PRODID:-//ChamberMaster//Event Calendar 2.0//EN
METHOD:PUBLISH
X-PUBLISHED-TTL:P3D
REFRESH-INTERVAL:P3D
CALSCALE:GREGORIAN
BEGIN:VEVENT
DTSTART:20210808T220000Z
DTEND:20210809T010000Z
X-MICROSOFT-CDO-ALLDAYEVENT:FALSE
SUMMARY:Concerts in the Park
DESCRIPTION:Ready for some live music? These FREE concerts feature two bands\, and are held at Sea Terrace Park\, PCH & Niguel Road\, behind the Dana Point Library area. \n\n\n\nJuly 18\n\n3:00 - 4:00 PM DSB - The Next Best Thing to Journey \n\n4:30 - 6:00 PM The Reflexx\n\n\n\nJuly 25 \n\n3:00 - 4:00 PM Tricia Freeman's Tribute to Female Rock Starts \n\n4:30 - 6:00 PM Mirage Visions of Fleetwood Mac \n\n\n\nAugust 1 \n\n3:00 - 4:00 PM Listen to the Music - The Doobie Brothers Experience \n\n4:30 - 6:00 PM The Eagles Experience \n\n\n\nAugust 8 \n\n3:00 - 4:00 PM The Piano Men Generations - Music of Billy Joel  \n\n4:30 - 6:00 PM Kenny Metcalf as Elton \n\n\n\nAugust 15 \n\n3:00 - 4:00 PM New Caribbean featuring Einstein Brown \n\n4:30 - 6:00 PM Garratt Wilkin & The Parrotheads
X-ALT-DESC;FMTTYPE=text/html:<span style="font-size:14px\;"><span style="color:#000000\;">Ready for some live music? These FREE concerts feature two bands\, and are held at Sea Terrace Park\, PCH &amp\; Niguel Road\, behind the Dana Point Library area.&nbsp\;<br />\n<br />\n<strong>July 18</strong><br />\n3:00 - 4:00 PM DSB - The Next Best Thing to Journey&nbsp\;<br />\n4:30 - 6:00 PM The Reflexx<br />\n<br />\n<strong>July 25</strong>&nbsp\;<br />\n3:00 - 4:00 PM Tricia Freeman&#39\;s Tribute to Female Rock Starts&nbsp\;<br />\n4:30 - 6:00 PM Mirage Visions of Fleetwood Mac&nbsp\;<br />\n<br />\n<strong>August 1&nbsp\;</strong><br />\n3:00 - 4:00 PM Listen to the Music - The Doobie Brothers Experience&nbsp\;<br />\n4:30 - 6:00 PM The Eagles Experience&nbsp\;<br />\n<br />\n<strong>August 8&nbsp\;</strong><br />\n3:00 - 4:00 PM The Piano Men Generations - Music of Billy Joel&nbsp\;&nbsp\;<br />\n4:30 - 6:00 PM Kenny Metcalf as Elton&nbsp\;<br />\n<br />\n<strong>August 15</strong>&nbsp\;<br />\n3:00 - 4:00 PM New Caribbean featuring Einstein Brown&nbsp\;<br />\n4:30 - 6:00 PM Garratt Wilkin &amp\; The Parrotheads&nbsp\;</span></span>
LOCATION:Sea Terrace Park Located off PCH & Niguel Rd.
UID:e.2189.13324
SEQUENCE:3
DTSTAMP:20260426T043948Z
URL:https://business.danapointchamber.com/events/details/concerts-in-the-park-08-08-2021-13324
END:VEVENT

END:VCALENDAR
