BEGIN:VCALENDAR
VERSION:2.0
PRODID:-//ChamberMaster//Event Calendar 2.0//EN
METHOD:PUBLISH
X-PUBLISHED-TTL:P3D
REFRESH-INTERVAL:P3D
CALSCALE:GREGORIAN
BEGIN:VEVENT
DTSTART;VALUE=DATE:20150825
DTEND;VALUE=DATE:20150826
TRANSP:TRANSPARENT
X-MICROSOFT-CDO-ALLDAYEVENT:TRUE
SUMMARY:CUSD First day of school
DESCRIPTION:
X-ALT-DESC;FMTTYPE=text/html:
LOCATION:
UID:e.2189.2643
SEQUENCE:3
DTSTAMP:20260421T151740Z
URL:https://business.danapointchamber.com/events/details/cusd-first-day-of-school-08-25-2015-2643
END:VEVENT

END:VCALENDAR
