BEGIN:VCALENDAR
VERSION:2.0
PRODID:-//ChamberMaster//Event Calendar 2.0//EN
METHOD:PUBLISH
X-PUBLISHED-TTL:P3D
REFRESH-INTERVAL:P3D
CALSCALE:GREGORIAN
BEGIN:VEVENT
DTSTART:20161105T020000Z
DTEND:20161105T050000Z
X-MICROSOFT-CDO-ALLDAYEVENT:FALSE
SUMMARY:Dana Hills Football Honor the Valor Game
DESCRIPTION:For the fifth year\, Dana Hills High School football is working to honor our combat veterans from WW II till the present conflicts. This great community event\, centered around a Dana Hills high school football game\, has honored combat veterans and raised over $75\,000 for local veterans organizations in Dana Point and Laguna Niguel in its first four years. Sixty-five combat veterans will be honored in a series of events this year that culminates at the Dana Hills football game on Friday\, November 4\, 2016 at 7pm.\n\n\n\nThe youtube link is from our 2012 game and highlights what a wonderful and moving event this is. https://youtu.be/ydSnUuVv5xQ\n\n\n\nMany local sponsors have elected NOT to support this cause this year so the event is in danger of being cancelled. \n\n\n\nAll proceeds benefit our local combat veterans and their families. \n\n\n\nIf you believe in honoring our veterans please consider helping make this wonderful event possible.
X-ALT-DESC;FMTTYPE=text/html:<span style="padding: 0px\; margin: 0px\; word-wrap: break-word\; box-sizing: border-box\; font-size: 18px\; line-height: 1.5em\; font-family: lato\, sans-serif\;">For the fifth year\, Dana Hills High School football is working to honor our combat veterans from WW II till the present conflicts. This great community event\, centered around a Dana Hills high school football game\, has honored combat veterans and raised over $75\,000 for local veterans organizations in Dana Point and Laguna Niguel in its first four years. Sixty-five combat veterans will be honored in a series of events this year that culminates at the Dana Hills football game on Friday\, November 4\, 2016 at 7pm.</span><br style="padding: 0px\; margin: 0px\; word-wrap: break-word\; box-sizing: border-box\; font-family: Helvetica\, Arial\, sans-serif\; line-height: 18.2px\;" />\n<br style="padding: 0px\; margin: 0px\; word-wrap: break-word\; box-sizing: border-box\; font-family: Helvetica\, Arial\, sans-serif\; line-height: 18.2px\;" />\n<span style="padding: 0px\; margin: 0px\; word-wrap: break-word\; box-sizing: border-box\; font-size: 18px\; line-height: 1.5em\; font-family: lato\, sans-serif\;">The youtube link is from our 2012 game and highlights what a wonderful and moving event this is.&nbsp\;</span><a class="txt1" href="https://youtu.be/ydSnUuVv5xQ" rel="nofollow noopener noreferrer" style="padding: 0px\; margin: 0px\; word-wrap: break-word\; box-sizing: border-box\; text-decoration: none\; -webkit-font-smoothing: antialiased\; font-family: Lato\, sans-serif\; font-size: 18px\; line-height: 25px\; color: rgb(5\, 60\, 121) !important\;" target="_blank">https://youtu.be/ydSnUuVv5xQ</a><br style="padding: 0px\; margin: 0px\; word-wrap: break-word\; box-sizing: border-box\; font-family: Helvetica\, Arial\, sans-serif\; line-height: 18.2px\;" />\n<br style="padding: 0px\; margin: 0px\; word-wrap: break-word\; box-sizing: border-box\; font-family: Helvetica\, Arial\, sans-serif\; line-height: 18.2px\;" />\n<span style="padding: 0px\; margin: 0px\; word-wrap: break-word\; box-sizing: border-box\; font-size: 18px\; line-height: 1.5em\; font-family: lato\, sans-serif\;">Many local sponsors have elected NOT to support this cause this year so the event is in danger of being cancelled.&nbsp\;</span><br style="padding: 0px\; margin: 0px\; word-wrap: break-word\; box-sizing: border-box\; font-family: Helvetica\, Arial\, sans-serif\; line-height: 18.2px\;" />\n<br style="padding: 0px\; margin: 0px\; word-wrap: break-word\; box-sizing: border-box\; font-family: Helvetica\, Arial\, sans-serif\; line-height: 18.2px\;" />\n<span style="padding: 0px\; margin: 0px\; word-wrap: break-word\; box-sizing: border-box\; font-size: 18px\; line-height: 1.5em\; font-family: lato\, sans-serif\;">All proceeds benefit our local combat veterans and their families.&nbsp\;</span><br style="padding: 0px\; margin: 0px\; word-wrap: break-word\; box-sizing: border-box\; font-family: Helvetica\, Arial\, sans-serif\; line-height: 18.2px\;" />\n<br style="padding: 0px\; margin: 0px\; word-wrap: break-word\; box-sizing: border-box\; font-family: Helvetica\, Arial\, sans-serif\; line-height: 18.2px\;" />\n<span style="padding: 0px\; margin: 0px\; word-wrap: break-word\; box-sizing: border-box\; font-size: 18px\; line-height: 1.5em\; font-family: lato\, sans-serif\;">If you believe in honoring our veterans please consider helping make this wonderful event possible.&nbsp\;</span>
LOCATION:Dana Hills High School 33333 Golden Lantern Dana Point\, CA 92629
UID:e.2189.4880
SEQUENCE:3
DTSTAMP:20260425T230106Z
URL:https://business.danapointchamber.com/events/details/dana-hills-football-honor-the-valor-game-11-04-2016-4880
END:VEVENT

END:VCALENDAR
