BEGIN:VCALENDAR
VERSION:2.0
PRODID:-//ChamberMaster//Event Calendar 2.0//EN
METHOD:PUBLISH
X-PUBLISHED-TTL:P3D
REFRESH-INTERVAL:P3D
CALSCALE:GREGORIAN
BEGIN:VEVENT
DTSTART:20160924T010000Z
DTEND:20160924T050000Z
X-MICROSOFT-CDO-ALLDAYEVENT:FALSE
SUMMARY:Dana Hills Football Red\, White and Blue Game
DESCRIPTION:Join the DHHS football team on September 23rd\, to help thank all of our community First Responders at our annual Red\, White & Blue tribute game.  Last year's inaugural event was a huge success and this year we hope to make it even bigger and better
X-ALT-DESC;FMTTYPE=text/html:<span style="font-size:12px\;"><span style="font-family:arial\;">Join the DHHS&nbsp\;football team on September 23rd\,&nbsp\;</span></span><span style="line-height: 1.5em\; font-family: arial\; font-size: 12px\;">to help thank all of our community First Responders at our annual Red\, White &amp\; Blue tribute game. &nbsp\;</span><span style="line-height: 1.5em\; font-family: arial\; font-size: 12px\;">Last year&#39\;s inaugural event was a huge success and this year we hope to make it even bigger and better</span>
LOCATION:Dana Hills High School 33333 Golden Lantern Dana Point\, CA 92629
UID:e.2189.4879
SEQUENCE:3
DTSTAMP:20260426T033632Z
URL:https://business.danapointchamber.com/events/details/dana-hills-football-red-white-and-blue-game-09-23-2016-4879
END:VEVENT

END:VCALENDAR
