BEGIN:VCALENDAR
VERSION:2.0
PRODID:-//ChamberMaster//Event Calendar 2.0//EN
METHOD:PUBLISH
X-PUBLISHED-TTL:P3D
REFRESH-INTERVAL:P3D
CALSCALE:GREGORIAN
BEGIN:VEVENT
DTSTART:20151016T153000Z
DTEND:20151016T163000Z
X-MICROSOFT-CDO-ALLDAYEVENT:FALSE
SUMMARY:Dana Point Civic Association Coffee Chat featuring Supervisor Lisa Bartlett
DESCRIPTION:Join your fellow residents and business members on the third Friday of every month to a waterfront community update. The Dana Point Civic Association hosts a monthly Coffee Chat featuring a variety of speakers on topics that concern Dana Point.\n\n\n\nA special thanks to Coffee Importers for the free coffee. Call (949) 493-7773 for current information.
X-ALT-DESC;FMTTYPE=text/html:Join your fellow residents and business members on the third Friday of every month to a waterfront community update. The Dana Point Civic Association hosts a monthly Coffee Chat featuring a variety of speakers on topics that concern Dana Point.<br />\n<br />\nA special thanks to Coffee Importers for the free coffee. Call (949) 493-7773 for current information.
LOCATION:Coffee Importers 34531 Golden Lantern St. Dana Point\, CA 92629
UID:e.2189.3837
SEQUENCE:3
DTSTAMP:20260423T060832Z
URL:https://business.danapointchamber.com/events/details/dana-point-civic-association-coffee-chat-featuring-supervisor-lisa-bartlett-10-16-2015-3837
END:VEVENT

END:VCALENDAR
