BEGIN:VCALENDAR
VERSION:2.0
PRODID:-//ChamberMaster//Event Calendar 2.0//EN
METHOD:PUBLISH
X-PUBLISHED-TTL:P3D
REFRESH-INTERVAL:P3D
CALSCALE:GREGORIAN
BEGIN:VEVENT
DTSTART:20230827T170000Z
DTEND:20230827T220000Z
X-MICROSOFT-CDO-ALLDAYEVENT:FALSE
SUMMARY:Dana Point Classic Car Show
DESCRIPTION:Start your engines! The Dana Point Classic Car Show returns Sunday\, August 27\, 2023 from 10am-3pm!\n\n\n\nLocated on Del Prado Avenue\, this outdoor event attracts thousands of spectators to enjoy 275 classic cars\, awards\, vendors\, music\, food trucks\, spirits on the street and more.\n\n\n\nThis event is free for spectators and is perfect for families\, friends\, and dogs (leashed)\n\n\n\nCar Registration is now sold out. \n\n\n\n\n\n\n\nGENERAL EVENT INFO:\n\nParking - Click here for public parking lots in the Lantern District.\n\n\n\nFREE Dana Point Trolley - Hop on the DP Trolley and cruise to the show. The trolley will operate 11am-8pm and will make stops near Ruby Lantern\, Amber Lantern\, and Old Golden Lantern just outside the event. Visit dptrolley.com\n\n\n\nInfo Booth\, Merchandise & Raffle - Visit these booths at Amber Lantern! Vote for the People's Choice Award here and see who wins at the Award Ceremony at 2:15pm. Purchase event t-shirts\, hats\, license plate frames\, and more. Enter our raffle to win amazing prizes donated by local businesses!\n\n\n\nPit Stops - Fuel up at our Pit Stops throughout the event! Adults 21 years or older can enjoy cold beer\, wine\, and cocktails at our Pit Stops.\n\n \n\n\n\n\n\nFor more information about the event\, please visit DanaPointCarShow.com\n\n\n\n\n\n\n\nGeneral inquiries\, sponsorship\, and vendor opportunities:\n\nDana Point Chamber of Commerce\n\nKatie McGann\n\ncarshow@danapointchamber.com or (949) 496-1555\n\n\n\nThis event is rain or shine. Car Registration\, Vendor Booth Fees\, and Sponsorship Fees are non-refundable.
X-ALT-DESC;FMTTYPE=text/html:<div style="text-align: center\;">&nbsp\;</div>\n\n<div><span style="color:#000000\;"><span style="font-size:16px\;"><span style="font-family:verdana\;">Start your engines! The <strong>Dana Point Classic Car&nbsp\;Show</strong> returns&nbsp\;<strong>Sunday\, August 27\, 2023</strong>&nbsp\;from <strong>10am-3pm</strong>!<br />\n<br />\nLocated on <strong>Del Prado Avenue</strong>\, this outdoor event attracts thousands of spectators to enjoy 275 classic cars\,&nbsp\;awards\, vendors\, music\,&nbsp\;food trucks\, spirits on the street and more.<br />\n<br />\nThis event is <strong>free for spectators</strong> and is perfect for families\, friends\, and dogs <span style="font-size:12px\;">(leashed)</span><br />\n<br />\nCar Registration is now sold out.&nbsp\;</span></span></span><br />\n<br />\n<br />\n<br />\n<strong><span style="color:#0000FF\;"><span style="font-size:16px\;"><span style="font-family:verdana\;"><u>GENERAL EVENT INFO</u></span></span></span></strong><span style="color:#000000\;"><span style="font-size:16px\;"><span style="font-family:verdana\;"><strong>:</strong></span></span></span><br />\n<span style="color:#FF0000\;"><span style="font-size:16px\;"><span style="font-family:verdana\;"><strong><em>Parking</em></strong></span></span></span><span style="color:#000000\;"><span style="font-size:16px\;"><span style="font-family:verdana\;"> - <a href="http://chrome-extension://efaidnbmnnnibpcajpcglclefindmkaj/https://www.danapoint.org/home/showpublisheddocument?id=26329">Click here</a> for public parking lots in the Lantern District.</span></span></span><br />\n<br />\n<span style="color:#FF0000\;"><span style="font-size:16px\;"><span style="font-family:verdana\;"><strong><em>FREE Dana Point Trolley</em></strong></span></span></span><span style="color:#000000\;"><span style="font-size:16px\;"><span style="font-family:verdana\;"> - Hop on the DP Trolley and cruise to the show. The trolley will operate 11am-8pm and will make stops near Ruby Lantern\, Amber Lantern\, and Old Golden Lantern just outside the event. <a href="https://dptrolley.com/routes">Visit dptrolley.com</a></span></span></span><br />\n<br />\n<span style="color:#FF0000\;"><span style="font-family: verdana\; font-size: 16px\;"><em><strong>Info Booth\, Merchandise &amp\; Raffle</strong></em> </span></span><span style="font-family: verdana\; font-size: 16px\; color: rgb(0\, 0\, 0)\;">- Visit these booths at Amber Lantern! Vote for the People&#39\;s Choice Award here and see who wins at the Award Ceremony at 2:15pm. Purchase event t-shirts\, hats\, license plate frames\, and more. Enter our raffle to win amazing prizes donated by local businesses!</span><br />\n<br />\n<span style="color:#FF0000\;"><span style="font-family: verdana\; font-size: 16px\;"><em><strong>Pit Stops</strong></em></span></span><span style="font-family: verdana\; font-size: 16px\; color: rgb(0\, 0\, 0)\;"> - Fuel up at our Pit Stops throughout the event! Adults 21 years or older&nbsp\;can enjoy cold beer\, wine\, and cocktails at our Pit Stops.</span><br />\n&nbsp\;</div>\n\n<div><br />\n<br />\n<span style="font-family: verdana\; font-size: 16px\; text-align: center\; color: rgb(0\, 0\, 0)\;">For more information about the event\, please visit&nbsp\;</span><span style="font-size:16px\;"><span style="font-family:verdana\;"><a href="https://www.danapointcarshow.com/spectator-information">DanaPointCarShow.com</a></span></span><br />\n<br />\n<br />\n<br />\n<span style="font-size:16px\;"><span style="font-family:verdana\;"><span style="color:#000000\;">General inquiries\, sponsorship\, and vendor opportunities:<br />\nDana Point Chamber of Commerce<br />\nKatie McGann</span><br />\n<a href="mailto:carshow@danapointchamber.com">carshow@danapointchamber.com</a> <span style="color:#000000\;">or (949) 496-1555</span></span></span><br />\n<br />\n<span style="color: rgb(0\, 0\, 0)\; font-family: verdana\; font-size: 12px\; text-align: center\;">This event is rain or shine. Car Registration\, Vendor Booth Fees\, and Sponsorship Fees are non-refundable.</span></div>\n
LOCATION:Dana Point Lantern District - Del Prado Avenue Refer to: 24502 Del Prado Avenue\, Dana Point\, CA 92629
UID:e.2189.13978
SEQUENCE:3
DTSTAMP:20260424T140246Z
URL:https://business.danapointchamber.com/events/details/dana-point-classic-car-show-13978
END:VEVENT

END:VCALENDAR
