BEGIN:VCALENDAR
VERSION:2.0
PRODID:-//ChamberMaster//Event Calendar 2.0//EN
METHOD:PUBLISH
X-PUBLISHED-TTL:P3D
REFRESH-INTERVAL:P3D
CALSCALE:GREGORIAN
BEGIN:VEVENT
DTSTART:20150725T210000Z
DTEND:20150726T220000Z
X-MICROSOFT-CDO-ALLDAYEVENT:FALSE
SUMMARY:Dana Point Concours
DESCRIPTION:Truly the best annual 356 Concours event at one of the best concours sites in the world! The 29th annual 356 Club Dana Point Concours   Join us for this special annual event on the lawn at Lantern Bay. If you have been there\, you know  if you haven't\, you have heard.\n\nRegistration is open now!\n\nOnce again\, the 356 Club of Southern California is inviting the Porsche community to be a part of it. As is the custom\, any Porsche can come and display on the grass with the 356's to be judged. It is amazing to see the 400 plus Porsches that come out in support of the concours competitors   it is one of the best displays of Porsches to assemble at any time!\n\nThe 356 Club of Southern California invites you to bring your 356 to be judged. Once again\, all registration will take place online. Below\, you will find the link for the registration. There are nine classes including the "Unrestored" class. If you just want to come and enjoy the day\, bring your 356 and park on the lawn with the serious competitors and picnic with all the other owners by your car.\n\nThe Laguna Cliffs Marriott is our host hotel. It is directly connected to Lantern Bay Park and there is plenty of covered parking for those wishing to make a weekend of the event. Please contact the Laguna Cliffs Marriott at 949-661-5000 and ask for the "356 Club Dana Point Concours" rate.
X-ALT-DESC;FMTTYPE=text/html:<p style="margin: 0px 0px 10px\; padding: 0px 0px 20px\; border: 0px\; font-size: 14px\; font-family: Ubuntu\, Arial\, Helvetica\, sans-serif\; vertical-align: baseline\; line-height: 1.7\; color: rgb(85\, 85\, 85)\; background-color: rgb(237\, 237\, 237)\;">Truly the best annual 356 Concours event&hellip\;at one of the best concours sites in the world! The 29th annual 356 Club Dana Point Concours &ndash\; Join us for this special annual event on the lawn at Lantern Bay. If you have been there\, you know&hellip\; if you haven&rsquo\;t\, you have heard.</p>\n\n<p style="margin: 0px 0px 10px\; padding: 0px 0px 20px\; border: 0px\; font-size: 14px\; font-family: Ubuntu\, Arial\, Helvetica\, sans-serif\; vertical-align: baseline\; line-height: 1.7\; color: rgb(85\, 85\, 85)\; background-color: rgb(237\, 237\, 237)\;"><a href="https://events.r20.constantcontact.com/register/eventReg?oeidk=a07eayz5ejl9e12bb78&amp\;oseq=&amp\;c=&amp\;ch=" style="margin: 0px\; padding: 0px\; border: 0px\; font-weight: inherit\; font-style: inherit\; font-family: inherit\; vertical-align: baseline\; color: rgb(255\, 0\, 0)\; opacity: 1\; text-decoration: none\;" target="_blank" title="Dana Point Registration">Registration is open now!</a></p>\n\n<p style="margin: 0px 0px 10px\; padding: 0px 0px 20px\; border: 0px\; font-size: 14px\; font-family: Ubuntu\, Arial\, Helvetica\, sans-serif\; vertical-align: baseline\; line-height: 1.7\; color: rgb(85\, 85\, 85)\; background-color: rgb(237\, 237\, 237)\;">Once again\, the 356 Club of Southern California is inviting the Porsche community to be a part of it. As is the custom\, any Porsche can come and display on the grass with the 356&rsquo\;s to be judged. It is amazing to see the 400 plus Porsches that come out in support of the concours competitors &ndash\; it is one of the best displays of Porsches to assemble at any time!<br />\nThe 356 Club of Southern California invites you to bring your 356 to be judged. Once again\, all registration will take place online. Below\, you will find the link for the registration. There are nine classes including the &ldquo\;Unrestored&rdquo\; class. If you just want to come and enjoy the day\, bring your 356 and park on the lawn with the serious competitors and picnic with all the other owners by your car.<br />\nThe Laguna Cliffs Marriott is our host hotel. It is directly connected to Lantern Bay Park and there is plenty of covered parking for those wishing to make a weekend of the event. Please contact the Laguna Cliffs Marriott at 949-661-5000 and ask for the &ldquo\;356 Club Dana Point Concours&rdquo\; rate.</p>\n
LOCATION:Laguna Cliff's Marriott 25135 Park Lantern Dana Point\, California 92629
UID:e.2189.2711
SEQUENCE:3
DTSTAMP:20260425T024027Z
URL:https://business.danapointchamber.com/events/details/dana-point-concours-07-25-2015-2711
END:VEVENT

END:VCALENDAR
