BEGIN:VCALENDAR
VERSION:2.0
PRODID:-//ChamberMaster//Event Calendar 2.0//EN
METHOD:PUBLISH
X-PUBLISHED-TTL:P3D
REFRESH-INTERVAL:P3D
CALSCALE:GREGORIAN
BEGIN:VEVENT
DTSTART:20170525T010000Z
DTEND:20170525T030000Z
X-MICROSOFT-CDO-ALLDAYEVENT:FALSE
SUMMARY:Dana Point Historical Society Founders Day
DESCRIPTION:The Dana Point Historical Society will honor Carlos and Georgelean Olvera for their contributions to our city and its history.\n\n\n\nOur Founders Day event will begin at 6 PM with a buffet reception followed by our program at 7 PM.
X-ALT-DESC;FMTTYPE=text/html:The Dana Point Historical Society will honor Carlos and Georgelean Olvera for their contributions to our city and its history.<br />\n<br />\nOur Founders Day event will begin at 6 PM with a buffet reception followed by our program at 7 PM.
LOCATION:Community House 24642 San Juan Avenue Dana Point\, CA 92629
UID:e.2189.5688
SEQUENCE:3
DTSTAMP:20260425T135202Z
URL:https://business.danapointchamber.com/events/details/dana-point-historical-society-founders-day-5688
END:VEVENT

END:VCALENDAR
