BEGIN:VCALENDAR
VERSION:2.0
PRODID:-//ChamberMaster//Event Calendar 2.0//EN
METHOD:PUBLISH
X-PUBLISHED-TTL:P3D
REFRESH-INTERVAL:P3D
CALSCALE:GREGORIAN
BEGIN:VEVENT
DTSTART:20180531T013000Z
DTEND:20180531T040000Z
X-MICROSOFT-CDO-ALLDAYEVENT:FALSE
SUMMARY:Dana Point Historical Society's Founders Day Celebration
DESCRIPTION:The Dana Point Historical Society will celebrate its Founders Day with a reception and award program honoring Ocean Institute's Jim "Skip"Wehan\, founder and teacher of the Dana Point Harbor Sea Scouts and Captain of the Brig Pilgrim and the Spirit of Dana Point.
X-ALT-DESC;FMTTYPE=text/html:The Dana Point Historical Society will celebrate its Founders Day with a reception and award program honoring Ocean Institute&#39\;s Jim &quot\;Skip&quot\;Wehan\, founder and teacher of the Dana Point Harbor Sea Scouts and Captain of the Brig Pilgrim and the Spirit of Dana Point.
LOCATION:Gloria Dei Lutheran Church Bankson Hall 33501 Stonehill Drive\, Dana Point
UID:e.2189.8819
SEQUENCE:3
DTSTAMP:20260424T184204Z
URL:https://business.danapointchamber.com/events/details/dana-point-historical-society-s-founders-day-celebration-8819
END:VEVENT

END:VCALENDAR
