BEGIN:VCALENDAR
VERSION:2.0
PRODID:-//ChamberMaster//Event Calendar 2.0//EN
METHOD:PUBLISH
X-PUBLISHED-TTL:P3D
REFRESH-INTERVAL:P3D
CALSCALE:GREGORIAN
BEGIN:VEVENT
DTSTART;VALUE=DATE:20141126
DTEND;VALUE=DATE:20150105
TRANSP:TRANSPARENT
X-MICROSOFT-CDO-ALLDAYEVENT:TRUE
SUMMARY:Dana Point "IlluminOcean"
DESCRIPTION:Dana Point IlluminOcean will electrify the Harbor with 40 nights of holiday lights. This wonderland by the sea features a brilliant spectacle of 18 oversized lighting sculptures with over 225\,000 LED lights\, and is free to the public for viewing nightly at sundown. From octopus and sharks\, to starfish and surfers\, the dazzling displays are highlighted by a towering glow-motion tree\, light tunnels stretching longer than a football field and over a dozen gigantic lighting sculptures  some so large\, visitors can walk through and inside the belly of a glowing 40-foot Blue whale!\n\n Stroll dockside through the colorful collection of immersive attractions\, every step is filled with vibrant sights and sounds.  On weekends roaming street performers entertain crowds\, glow merchandise shines and "Whale Eyes" 3D glasses give a must-see holographic look at this holiday spectacle.  See the lights. Explore the sights. This year and every year\, only at Dana Point IlluminOcean. For additional information\, visit myDanaPoint.com.
X-ALT-DESC;FMTTYPE=text/html:<span style="font-family:arial\;"><span style="font-size:14px\;"><span style="color:#000000\;"><strong><em>Dana Point IlluminOcean </em></strong>will electrify the Harbor with 40 nights of holiday lights. This wonderland by the sea features a brilliant spectacle of 18 oversized lighting sculptures with over 225\,000 LED lights\, and is free to the public for viewing nightly at sundown. From octopus and sharks\, to starfish and surfers\, the dazzling displays are highlighted by a towering glow-motion tree\, light tunnels stretching longer than a football field and over a dozen gigantic lighting sculptures &mdash\;some so large\, visitors can walk through and inside the belly of a glowing 40-foot Blue whale!<br />\n&nbsp\;Stroll dockside through the colorful collection of immersive attractions\, every step is filled with vibrant sights and sounds.&nbsp\; On weekends roaming street performers entertain crowds\, glow merchandise shines and &ldquo\;Whale Eyes&rdquo\; 3D glasses give a must-see holographic look at this holiday spectacle. &nbsp\;See the lights. Explore the sights. This year and every year\, only at <strong><em>Dana Point IlluminOcean</em></strong>. For additional information\, visit </span><a href="http://mydanapoint.com"><span style="color:#0000FF\;">myDanaPoint.com</span></a><span style="color:#000000\;">.</span></span></span>
LOCATION:Dana Point Harbor - 34624 Golden Lantern St\, Dana Point\, CA
UID:e.2189.424
SEQUENCE:3
DTSTAMP:20260423T214925Z
URL:https://business.danapointchamber.com/events/details/dana-point-illuminocean-11-26-2014-424
END:VEVENT

END:VCALENDAR
