BEGIN:VCALENDAR
VERSION:2.0
PRODID:-//ChamberMaster//Event Calendar 2.0//EN
METHOD:PUBLISH
X-PUBLISHED-TTL:P3D
REFRESH-INTERVAL:P3D
CALSCALE:GREGORIAN
BEGIN:VEVENT
DTSTART:20161015T190000Z
DTEND:20161016T020000Z
X-MICROSOFT-CDO-ALLDAYEVENT:FALSE
SUMMARY:Dana Point Oktoberfest
DESCRIPTION:Enjoy a wide variety of beers\, delicious food and entertainment at the Dana Point Oktoberfest!
X-ALT-DESC;FMTTYPE=text/html:Enjoy a wide variety of beers\, delicious food and entertainment at the Dana Point Oktoberfest! &nbsp\;
LOCATION:Sea Terrace Park 33501 Niguel Rd Dana Point\, CA 92629 Access to the event can be found behind the Dana Point Public Library walking path that borders PCH and Niguel Rd.\, at the Salt Creek Beach parking lot through the PCH underground tunnel or off Stonehill Dr where it meets Niguel Rd.
UID:e.2189.4793
SEQUENCE:3
DTSTAMP:20260426T002645Z
URL:https://business.danapointchamber.com/events/details/dana-point-oktoberfest-10-15-2016-4793
END:VEVENT

END:VCALENDAR
