BEGIN:VCALENDAR
VERSION:2.0
PRODID:-//ChamberMaster//Event Calendar 2.0//EN
METHOD:PUBLISH
X-PUBLISHED-TTL:P3D
REFRESH-INTERVAL:P3D
CALSCALE:GREGORIAN
BEGIN:VEVENT
DTSTART:20151003T170000Z
DTEND:20151004T000000Z
X-MICROSOFT-CDO-ALLDAYEVENT:FALSE
SUMMARY:Dana Point State Championship BBQ
DESCRIPTION:LARGEST BBQ COMPETITION ON THE WEST COAST! Over 100 of the top teams from California\, Oregon\, Utah\, Nevada\, and Arizona will compete for a share of $30\,000 in prize money.
X-ALT-DESC;FMTTYPE=text/html:<p class="font_7" style="font-size: 14px\;"><span style="font-family: arial\;"><span style="font-size: 12px\;"><span class="color_22">LARGEST BBQ COMPETITION ON THE WEST COAST! </span></span></span><span style="font-size: 14px\;"><span class="color_11"><span style="font-family: arial\;"><span style="font-size: 12px\;">Over 100 of the top teams from California\, Oregon\, Utah\, Nevada\, and Arizona will compete for a share of $30\,000 in prize money</span></span>.</span></span></p>\n
LOCATION:Sea Terrace Park 33410 Pacific Coast Hwy.Dana Point\, CA There will be no outside food and drinks allowed in the venue. You may purchase food and drinks from the various vendors at the event.
UID:e.2189.4052
SEQUENCE:3
DTSTAMP:20260422T024154Z
URL:https://business.danapointchamber.com/events/details/dana-point-state-championship-bbq-10-03-2015-4052
END:VEVENT

END:VCALENDAR
