BEGIN:VCALENDAR
VERSION:2.0
PRODID:-//ChamberMaster//Event Calendar 2.0//EN
METHOD:PUBLISH
X-PUBLISHED-TTL:P3D
REFRESH-INTERVAL:P3D
CALSCALE:GREGORIAN
BEGIN:VEVENT
DTSTART:20150614T023000Z
DTEND:20150614T050000Z
X-MICROSOFT-CDO-ALLDAYEVENT:FALSE
SUMMARY:Dana Point Symphony
DESCRIPTION:Vienna\n\nDean Anderson\, conductor\n\nAmanda Squitieri\, soprano\n\nMozart: Impressario Overture\n\nMozart:\n\nDove Sono\n\nPorgi Amor\n\nAllelujah from Exultate Jubilate\n\nMozart: Symphony 41 "Jupiter"
X-ALT-DESC;FMTTYPE=text/html:<strong style="border: 0px\; font-family: 'Droid Sans'\, Arial\, sans-serif\; font-size: 15px\; margin: 0px\; outline: 0px\; padding: 0px\; vertical-align: baseline\; color: rgb(64\, 64\, 64)\; line-height: 24px\; background-color: rgb(255\, 255\, 255)\;"><em style="border: 0px\; font-family: inherit\; font-weight: inherit\; margin: 0px\; outline: 0px\; padding: 0px\; vertical-align: baseline\;">Vienna</em></strong><br style="color: rgb(64\, 64\, 64)\; font-family: 'Droid Sans'\, Arial\, sans-serif\; font-size: 15px\; line-height: 24px\; background-color: rgb(255\, 255\, 255)\;" />\n<strong style="border: 0px\; font-family: 'Droid Sans'\, Arial\, sans-serif\; font-size: 15px\; margin: 0px\; outline: 0px\; padding: 0px\; vertical-align: baseline\; color: rgb(64\, 64\, 64)\; line-height: 24px\; background-color: rgb(255\, 255\, 255)\;">Dean Anderson\, conductor</strong><br style="color: rgb(64\, 64\, 64)\; font-family: 'Droid Sans'\, Arial\, sans-serif\; font-size: 15px\; line-height: 24px\; background-color: rgb(255\, 255\, 255)\;" />\n<strong style="border: 0px\; font-family: 'Droid Sans'\, Arial\, sans-serif\; font-size: 15px\; margin: 0px\; outline: 0px\; padding: 0px\; vertical-align: baseline\; color: rgb(64\, 64\, 64)\; line-height: 24px\; background-color: rgb(255\, 255\, 255)\;">Amanda Squitieri\, soprano</strong><br style="color: rgb(64\, 64\, 64)\; font-family: 'Droid Sans'\, Arial\, sans-serif\; font-size: 15px\; line-height: 24px\; background-color: rgb(255\, 255\, 255)\;" />\n<span style="color: rgb(64\, 64\, 64)\; font-family: 'Droid Sans'\, Arial\, sans-serif\; font-size: 15px\; line-height: 24px\; background-color: rgb(255\, 255\, 255)\;">Mozart: Impressario Overture</span><br style="color: rgb(64\, 64\, 64)\; font-family: 'Droid Sans'\, Arial\, sans-serif\; font-size: 15px\; line-height: 24px\; background-color: rgb(255\, 255\, 255)\;" />\n<span style="color: rgb(64\, 64\, 64)\; font-family: 'Droid Sans'\, Arial\, sans-serif\; font-size: 15px\; line-height: 24px\; background-color: rgb(255\, 255\, 255)\;">Mozart:</span><br style="color: rgb(64\, 64\, 64)\; font-family: 'Droid Sans'\, Arial\, sans-serif\; font-size: 15px\; line-height: 24px\; background-color: rgb(255\, 255\, 255)\;" />\n<span style="color: rgb(64\, 64\, 64)\; font-family: 'Droid Sans'\, Arial\, sans-serif\; font-size: 15px\; line-height: 24px\; background-color: rgb(255\, 255\, 255)\;">Dove Sono</span><br style="color: rgb(64\, 64\, 64)\; font-family: 'Droid Sans'\, Arial\, sans-serif\; font-size: 15px\; line-height: 24px\; background-color: rgb(255\, 255\, 255)\;" />\n<span style="color: rgb(64\, 64\, 64)\; font-family: 'Droid Sans'\, Arial\, sans-serif\; font-size: 15px\; line-height: 24px\; background-color: rgb(255\, 255\, 255)\;">Porgi Amor</span><br style="color: rgb(64\, 64\, 64)\; font-family: 'Droid Sans'\, Arial\, sans-serif\; font-size: 15px\; line-height: 24px\; background-color: rgb(255\, 255\, 255)\;" />\n<span style="color: rgb(64\, 64\, 64)\; font-family: 'Droid Sans'\, Arial\, sans-serif\; font-size: 15px\; line-height: 24px\; background-color: rgb(255\, 255\, 255)\;">Allelujah from Exultate Jubilate</span><br style="color: rgb(64\, 64\, 64)\; font-family: 'Droid Sans'\, Arial\, sans-serif\; font-size: 15px\; line-height: 24px\; background-color: rgb(255\, 255\, 255)\;" />\n<span style="color: rgb(64\, 64\, 64)\; font-family: 'Droid Sans'\, Arial\, sans-serif\; font-size: 15px\; line-height: 24px\; background-color: rgb(255\, 255\, 255)\;">Mozart: Symphony 41 &ldquo\;Jupiter&rdquo\;</span>
LOCATION:St. Edward's Church 33926 Calle La Primavera Dana Point\, CA 92629
UID:e.2189.2605
SEQUENCE:3
DTSTAMP:20260422T100813Z
URL:https://business.danapointchamber.com/events/details/dana-point-symphony-06-13-2015-2605
END:VEVENT

END:VCALENDAR
