BEGIN:VCALENDAR
VERSION:2.0
PRODID:-//ChamberMaster//Event Calendar 2.0//EN
METHOD:PUBLISH
X-PUBLISHED-TTL:P3D
REFRESH-INTERVAL:P3D
CALSCALE:GREGORIAN
BEGIN:VEVENT
DTSTART:20150712T023000Z
DTEND:20150712T040000Z
X-MICROSOFT-CDO-ALLDAYEVENT:FALSE
SUMMARY:Dana Point Symphony
DESCRIPTION:The mission of the Dana Point Symphony is to provide world-class classical music to the Dana Point and surrounding community and make it accessible to everyone.\n\nThe Dana Point Symphony was created through the vision of its artistic director Berenika Schmitz\, conductor and music director Dean Anderson\,  and The City of Dana Point under the leadership of Scott Schoeffel. In addition to presenting high caliber music\, the Dana Point Symphony features one visual artist exhibition at the meet-the-artist receptions. Each concert experience is artistically crafted to the desires of the audience.
X-ALT-DESC;FMTTYPE=text/html:<p style="border: 0px\; font-family: 'Droid Sans'\, Arial\, sans-serif\; font-size: 15px\; margin: 0px 0px 1.5em\; outline: 0px\; padding: 0px\; vertical-align: baseline\; color: rgb(64\, 64\, 64)\; line-height: 24px\; background-color: rgb(255\, 255\, 255)\;">The mission of the Dana Point Symphony is to provide world-class classical music to the Dana Point and surrounding community and make it accessible to everyone.</p>\n\n<p style="border: 0px\; font-family: 'Droid Sans'\, Arial\, sans-serif\; font-size: 15px\; margin: 0px 0px 1.5em\; outline: 0px\; padding: 0px\; vertical-align: baseline\; color: rgb(64\, 64\, 64)\; line-height: 24px\; background-color: rgb(255\, 255\, 255)\;">The Dana Point Symphony was created through the vision of its artistic director&nbsp\;<a href="http://berenikaonline.com/" style="border: 0px\; font-family: inherit\; font-style: inherit\; font-weight: inherit\; margin: 0px\; outline: 0px\; padding: 0px\; vertical-align: baseline\; color: rgb(170\, 170\, 170)\; text-decoration: none\;" title="Berenika Schmitz"><strong style="border: 0px\; font-family: inherit\; font-style: inherit\; margin: 0px\; outline: 0px\; padding: 0px\; vertical-align: baseline\;">Berenika Schmitz</strong></a>\, conductor and music director&nbsp\;<a href="http://deananderson.yolasite.com/" style="border: 0px\; font-family: inherit\; font-style: inherit\; font-weight: inherit\; margin: 0px\; outline: 0px\; padding: 0px\; vertical-align: baseline\; color: rgb(170\, 170\, 170)\; text-decoration: none\;" title="Dean Anderson"><strong style="border: 0px\; font-family: inherit\; font-style: inherit\; margin: 0px\; outline: 0px\; padding: 0px\; vertical-align: baseline\;">Dean Anderson</strong></a>\, &nbsp\;and The City of Dana Point&nbsp\;under the leadership of&nbsp\;<strong style="border: 0px\; font-family: inherit\; font-style: inherit\; margin: 0px\; outline: 0px\; padding: 0px\; vertical-align: baseline\;"><a href="http://www.danapoint.org/index.aspx?page=486" style="border: 0px\; font-family: inherit\; font-style: inherit\; font-weight: inherit\; margin: 0px\; outline: 0px\; padding: 0px\; vertical-align: baseline\; color: rgb(170\, 170\, 170)\; text-decoration: none\;" title="Scott Schoeffel">Scott Schoeffel</a></strong>.&nbsp\;In addition to presenting high caliber music\, the Dana Point Symphony features one visual artist exhibition at the meet-the-artist receptions. Each concert experience is artistically crafted to the desires of the audience.</p>\n
LOCATION:St. Edwards Church 33926 Calle La Primavera Dana Point\, California 92629
UID:e.2189.2710
SEQUENCE:3
DTSTAMP:20260422T182006Z
URL:https://business.danapointchamber.com/events/details/dana-point-symphony-07-11-2015-2710
END:VEVENT

END:VCALENDAR
