BEGIN:VCALENDAR
VERSION:2.0
PRODID:-//ChamberMaster//Event Calendar 2.0//EN
METHOD:PUBLISH
X-PUBLISHED-TTL:P3D
REFRESH-INTERVAL:P3D
CALSCALE:GREGORIAN
BEGIN:VEVENT
DTSTART:20150626T220000Z
DTEND:20150628T020000Z
X-MICROSOFT-CDO-ALLDAYEVENT:FALSE
SUMMARY:Dana Point Trolley Hop
DESCRIPTION:Join Us For The Inaugural Trolley Hop Sponsored By The Dana Point Lantern District Alliance & Libre Tequila\n\n\n\nEnjoy a relaxing Friday afternoon and take a ride on the first day of the new FREE Dana Point Trolley. Food specials $6 and under\; Drink specials $5 and under. All you need to receive the specials is your Inaugural Dana Point Trolley Mug for just $10.\n\n\n\nWhere: Participating Restaurants and Bars (a full list will be available by Thursday June 18 and updated daily at www.DanaPointLDA.com) How to get Your Mug: Purchase online available now using your secure PayPal payment or credit card at www.DanaPointLDA.com\; or In person at Dana Point LDA member locations beginning Friday June 19: Luxe Restaurant & Martini Bar (949) 276-4990 Brio Tuscany Grille (949) 443-1476 Luciana's Restaurant (949) 661-6500 Harbor Delicatessen (949) 496-0424 Coffee Importers (949) 493-7773 Boneyard Caf  (949) 272-0782 JC Beans Coffee House (949) 496-4700 The Point (949) 464-5700
X-ALT-DESC;FMTTYPE=text/html:Join Us For The Inaugural Trolley Hop Sponsored By The Dana Point Lantern District Alliance &amp\; Libre Tequila<br />\n<br />\nEnjoy a relaxing Friday afternoon and take a ride on the first day of the new FREE Dana Point Trolley. Food specials $6 and under\; Drink specials $5 and under. All you need to receive the specials is your Inaugural Dana Point Trolley Mug for just $10.<br />\n<br />\nWhere: Participating Restaurants and Bars (a full list will be available by Thursday June 18 and updated daily at www.DanaPointLDA.com) How to get Your Mug: Purchase online available now using your secure PayPal payment or credit card at www.DanaPointLDA.com\; or In person at Dana Point LDA member locations beginning Friday June 19: Luxe Restaurant &amp\; Martini Bar (949) 276-4990 Brio Tuscany Grille (949) 443-1476 Luciana&rsquo\;s Restaurant (949) 661-6500 Harbor Delicatessen (949) 496-0424 Coffee Importers (949) 493-7773 Boneyard Caf&eacute\; (949) 272-0782 JC Beans Coffee House (949) 496-4700 The Point (949) 464-5700
LOCATION:Participating Restaurants and Bars
UID:e.2189.2904
SEQUENCE:3
DTSTAMP:20260423T180342Z
URL:https://business.danapointchamber.com/events/details/dana-point-trolley-hop-06-26-2015-2904
END:VEVENT

END:VCALENDAR
