BEGIN:VCALENDAR
VERSION:2.0
PRODID:-//ChamberMaster//Event Calendar 2.0//EN
METHOD:PUBLISH
X-PUBLISHED-TTL:P3D
REFRESH-INTERVAL:P3D
CALSCALE:GREGORIAN
BEGIN:VEVENT
DTSTART:20170211T190000Z
DTEND:20170211T223000Z
X-MICROSOFT-CDO-ALLDAYEVENT:FALSE
SUMMARY:Dana Point Woman's Club Fashion Show Luncheon
DESCRIPTION:Our annual beautiful fashion show and gourmet luncheon to raise funds for deserving seniors from Dana Hills High School. In addition to the fashions\, we will have multiple vendors as well as numerous gift baskets\, silent auction items and raffle prizes.
X-ALT-DESC;FMTTYPE=text/html:Our annual beautiful fashion show and gourmet luncheon to raise funds for deserving seniors from Dana Hills High School. In addition to the fashions\, we will have multiple vendors as well as numerous gift baskets\, silent auction items and raffle prizes.
LOCATION:Talega Golf Club 990 Avenida Talega San Clemente\, 92673
UID:e.2189.5154
SEQUENCE:3
DTSTAMP:20260425T184316Z
URL:https://business.danapointchamber.com/events/details/dana-point-woman-s-club-fashion-show-luncheon-5154
END:VEVENT

END:VCALENDAR
